{"text_format":"1","workbook":"xlsx","n_sheets":4,"sheets":["PREMIER","DIVISION 1","DVISION 2","TABLES"],"not_rendered":{"charts":0,"images":1,"macros":1,"external_links":0,"defined_names":3,"comments":0,"pivot_tables":0},"unopened":[],"bounds":{"document_bytes":16777216,"sheet_cells":100000,"rows_first":2000,"rows_last":500,"rows_between":2000,"halvings":0,"cell_chars":16384,"cell_head_chars":4096},"cells_cut":0,"cells_raw":0,"read":"whole","date_system":"1900"}

{"sheet":"PREMIER","index":0,"n_rows":44,"n_cols":53,"rows_kept":44,"cut":false,"hidden":false,"merged":[[9,15,9,19],[9,20,9,24],[15,15,15,19],[15,20,15,24],[27,15,27,19],[27,20,27,24],[21,15,21,19],[21,20,21,24],[6,15,6,16],[4,20,4,22],[5,20,5,22],[6,20,6,22],[3,20,3,22],[1,15,1,16],[2,15,2,16],[3,15,3,16],[4,15,4,16],[5,15,5,16],[0,15,0,24],[4,7,4,9],[5,7,5,9],[6,7,6,9],[1,17,1,19],[2,17,2,19],[3,17,3,19],[4,17,4,19],[5,17,5,19],[6,17,6,19],[0,2,0,11],[1,7,1,9],[2,7,2,9],[3,7,3,9],[1,20,1,22],[2,20,2,22],[24,0,25,0],[9,2,9,6],[9,7,9,11],[10,0,11,0],[12,0,13,0],[15,2,15,6],[15,7,15,11],[16,0,17,0],[18,0,19,0],[21,2,21,6],[21,7,21,11],[22,0,23,0],[27,2,27,6],[27,7,27,11],[28,0,29,0],[30,0,31,0],[33,2,33,6],[33,7,33,11],[33,15,33,19],[33,20,33,24],[34,13,35,13],[36,13,37,13],[42,0,43,0],[34,0,35,0],[36,0,37,0],[39,2,39,6],[39,7,39,11],[40,0,41,0],[6,2,6,3],[1,2,1,3],[2,2,2,3],[3,2,3,3],[4,2,4,3],[5,2,5,3]]}
[null,null,"PREMIER LEAGUE",null,null,null,null,null,null,null,null,null,null,null,null,"PREMIER LEAGUE"]
[null,null,1,null,{"$f":"AE10","v":"DYLAN LEARY"},null,null,"racks147@hotmail.co.uk",null,null,"07774 013235",null,null,null,null,7,null,{"$f":"AE16","v":"MATT ATASOY"}]
[null,null,2,null,"ROB WALSH",null,null,"rob@fontain.co.uk",null,null,"07958 615783",null,null,null,null,8,null,"BYE"]
[null,null,3,null,"LUCKY BIRDY",null,null,"luckyb@email.com",null,null,"07970 649473",null,null,null,null,9,null,"JAY COWAN",null,null,"jcowen1985@live.co.uk",null,null,"07813 599343"]
[null,null,4,null,"SPIKE HARLING",null,null,"emily.gardiner@ntlworld.com",null,null,"07769 334655",null,null,null,null,10,null,{"$f":"AE19","v":"CRAIG WILSON"},null,null,"ballymacrita@hotmail.com",null,null,"07823 325924"]
[null,null,5,null,{"$f":"AE14","v":"VIKAS SABHARWAL"},null,null,"kickas147@gmail.com",null,null,"07988 141721",null,null,null,null,11,null,{"$f":"AE20","v":"PAUL MONTAGUE"},null,null,"paul@pjmdecorators.com",null,null,"07751 847573"]
[null,null,6,null,"TAG FALCONER",null,null,"gregorfalconer6@outlook.com",null,null,"07734 357179",null,null,null,null,12,null,{"$f":"AE21","v":"STEVE PRIOR"},null,null,"stephenthebuilder@hotmail.co.uk",null,null,"07853 185357"]
[]
[null,null,null,null,null,null,null,null,null,null,null,null,null,null,null,null,null,null,null,null,null,null,null,null,null,null,null,null,null,null,null,"Wk1","WK2","Wk3","Wk4","Wk5","Wk6","Wk7","Wk8","Wk9","Wk10","Wk11","TOTAL",null,"FF","AA",null,"P","W","D","L"]
["DATE","TIME","TABLE 4",null,null,null,null,"TABLE 5",null,null,null,null,null,"DATE","TIME","TABLE 4",null,null,null,null,"TABLE 5",null,null,null,null,null,null,null,null,null,"DYLAN LEARY",{"$f":"IF(F11<7,0, IF(F11>7,2, IF(F11=7,1)))","v":0},{"$f":"IF(I17<7,0, IF(I17>7,2, IF(I17=7,1)))","v":0},{"$f":"IF(F25<7,0, IF(F25>7,2, IF(F25=7,1)))","v":0},{"$f":"IF(D30<7,0, IF(D30>7,2, IF(D30=7,1)))","v":0},{"$f":"IF(F38<7,0, IF(F38>7,2, IF(F38=7,1)))","v":0},{"$f":"IF(D44<7,0, IF(D44>7,2, IF(D44=7,1)))","v":0},{"$f":"IF(S11<7,0, IF(S11>7,2, IF(S11=7,1)))","v":0},{"$f":"IF(X17<7,0, IF(X17>7,2, IF(X17=7,1)))","v":0},{"$f":"IF(Q25<7,0, IF(Q25>7,2, IF(Q25=7,1)))","v":0},{"$f":"IF(S30<7,0, IF(S30>7,2, IF(S30=7,1)))","v":0},{"$f":"IF(V36<7,0, IF(V36>7,2, IF(V36=7,1)))","v":0},{"$f":"SUM(AF10:AP10)","v":0},null,{"$f":"F11+I17+F25+D30+F38+D44+S11+X17+Q25+S30+V36","v":0},{"$f":"D11+K17+D25+F30+D38+F44+Q11+V17+S25+Q30+X36","v":0},null,{"$f":"(AS10+AT10)/14","v":0},{"$f":"COUNTIF(AF10:AP10,$BA$10)","v":0},{"$f":"COUNTIF(AF10:AP10,$AZ$10)","v":0},{"$f":"AV10-AW10-AX10","v":0},1,2]
["TUES 07.10.14","7.30 PM",{"$f":"E3","v":"ROB WALSH"},null,"V",null,{"$f":"E2","v":"DYLAN LEARY"},{"$f":"E4","v":"LUCKY BIRDY"},null,"V",null,{"$f":"R7","v":"STEVE PRIOR"},null,"TUES 18.11.14","7.30 PM",{"$f":"R3","v":"BYE"},null,"V",null,{"$f":"E2","v":"DYLAN LEARY"},{"$f":"R7","v":"STEVE PRIOR"},null,"V",null,{"$f":"E5","v":"SPIKE HARLING"},null,null,null,null,null,"ROB WALSH",{"$f":"IF(D11<7,0, IF(D11>7,2, IF(D11=7,1)))","v":0},{"$f":"IF(F17<7,0, IF(F17>7,2, IF(F17=7,1)))","v":0},{"$f":"IF(D24<7,0, IF(D24>7,2, IF(D24=7,1)))","v":0},{"$f":"IF(F29<7,0, IF(F29>7,2, IF(F29=7,1)))","v":0},{"$f":"IF(I35<7,0, IF(I35>7,2, IF(I35=7,1)))","v":0},{"$f":"IF(F41<7,0, IF(F41>7,2, IF(F41=7,1)))","v":0},{"$f":"IF(Q13<7,0, IF(Q13>7,2, IF(Q13=7,1)))","v":0},{"$f":"IF(S20<7,0, IF(S20>7,2, IF(S20=7,1)))","v":0},{"$f":"IF(X24<7,0, IF(X24>7,2, IF(X24=7,1)))","v":0},{"$f":"IF(S32<7,0, IF(S32>7,2, IF(S32=7,1)))","v":0},{"$f":"IF(Q37<7,0, IF(Q37>7,2, IF(Q37=7,1)))","v":0},{"$f":"SUM(AF11:AP11)","v":0},null,{"$f":"D11+F17+D24+F29+I35+F41+Q13+S20+X24+S32+Q37","v":0},{"$f":"F11+D17+F24+D29+K35+D41+S13+Q20+V24+Q32+S37","v":0},null,{"$f":"(AS11+AT11)/14","v":0},{"$f":"COUNTIF(AF11:AP11,$BA$10)","v":0},{"$f":"COUNTIF(AF11:AP11,$AZ$10)","v":0},{"$f":"AV11-AW11-AX11","v":0}]
[null,"9.00 PM",{"$f":"E6","v":"VIKAS SABHARWAL"},null,"V",null,{"$f":"R5","v":"CRAIG WILSON"},{"$f":"E7","v":"TAG FALCONER"},null,"V",null,{"$f":"R4","v":"JAY COWAN"},null,null,"9.00 PM",{"$f":"R6","v":"PAUL MONTAGUE"},null,"V",null,{"$f":"E6","v":"VIKAS SABHARWAL"},{"$f":"R4","v":"JAY COWAN"},null,"V",null,{"$f":"R2","v":"MATT ATASOY"},null,null,null,null,null,"LUCKY BIRDY",{"$f":"IF(I11<7,0, IF(I11>7,2, IF(I11=7,1)))","v":0},{"$f":"IF(F20<7,0, IF(F20>7,2, IF(F20=7,1)))","v":0},{"$f":"IF(F26<7,0, IF(F26>7,2, IF(F26=7,1)))","v":0},{"$f":"IF(F31<7,0, IF(F31>7,2, IF(F31=7,1)))","v":0},{"$f":"IF(D37<7,0, IF(D37>7,2, IF(D37=7,1)))","v":0},{"$f":"IF(F44<7,0, IF(F44>7,2, IF(F44=7,1)))","v":0},{"$f":"IF(S13<7,0, IF(S13>7,2, IF(S13=7,1)))","v":0},{"$f":"IF(X18<7,0, IF(X18>7,2, IF(X18=7,1)))","v":0},{"$f":"IF(Q26<7,0, IF(Q26>7,2, IF(Q26=7,1)))","v":0},{"$f":"IF(S31<7,0, IF(S31>7,2, IF(S31=7,1)))","v":0},{"$f":"IF(Q36<7,0, IF(Q36>7,2, IF(Q36=7,1)))","v":0},{"$f":"SUM(AF12:AP12)","v":0},null,{"$f":"I11+F20+F26+F31+D37+F44+S13+X18+Q26+S31+Q36","v":0},{"$f":"K11+D20+D26+D31+F37+D44+Q13+V18+S26+Q31+S36","v":0},null,0,0,0,0]
["WEDS 08.10.14","7.30 PM",{"$f":"E5","v":"SPIKE HARLING"},null,"V",null,{"$f":"R6","v":"PAUL MONTAGUE"},"N/A",null,"V",null,"N/A",null,"WEDS 19.11.14","7.30 PM",{"$f":"E3","v":"ROB WALSH"},null,"V",null,{"$f":"E4","v":"LUCKY BIRDY"},"N/A",null,"V",null,"N/A",null,null,null,null,null,"SPIKE HARLING",{"$f":"IF(D13<7,0, IF(D13>7,2, IF(D13=7,1)))","v":0},{"$f":"IF(K18<7,0, IF(K18>7,2, IF(K18=7,1)))","v":0},{"$f":"IF(K24<7,0, IF(K24>7,2, IF(K24=7,1)))","v":0},{"$f":"IF(K29<7,0, IF(K29>7,2, IF(K29=7,1)))","v":0},{"$f":"IF(D36<7,0, IF(D36>7,2, IF(D36=7,1)))","v":0},{"$f":"IF(D41<7,0, IF(D41>7,2, IF(D41=7,1)))","v":0},{"$f":"IF(X11<7,0, IF(X11>7,2, IF(X11=7,1)))","v":0},{"$f":"IF(S17<7,0, IF(S17>7,2, IF(S17=7,1)))","v":0},{"$f":"IF(S23<7,0, IF(S23>7,2, IF(S23=7,1)))","v":0},{"$f":"IF(Q30<7,0, IF(Q30>7,2, IF(Q30=7,1)))","v":0},{"$f":"IF(S36<7,0, IF(S36>7,2, IF(S36=7,1)))","v":0},0,null,{"$f":"D13+K18+K24+K29+D36+D41+X11+S17+S23+Q30+S36","v":0},{"$f":"F13+I18+I24+I29+F36+F41+V11+Q17+Q23+S30+Q36","v":0},null,0,0,0,0]
[null,"9.00 PM",{"$f":"R2","v":"MATT ATASOY"},null,"V",null,{"$f":"R3","v":"BYE"},"N/A",null,"V",null,"N/A",null,null,"9.00 PM",{"$f":"R5","v":"CRAIG WILSON"},null,"V",null,{"$f":"E7","v":"TAG FALCONER"},"N/A",null,"V",null,"N/A",null,null,null,null,null,"VIKAS SABHARWAL",{"$f":"IF(D12<7,0, IF(D12>7,2, IF(D12=7,1)))","v":0},{"$f":"IF(F18<7,0, IF(F18>7,2, IF(F18=7,1)))","v":0},{"$f":"IF(D23<7,0, IF(D23>7,2, IF(D23=7,1)))","v":0},{"$f":"IF(F30<7,0, IF(F30>7,2, IF(F30=7,1)))","v":0},{"$f":"IF(F36<7,0, IF(F36>7,2, IF(F36=7,1)))","v":0},{"$f":"IF(I41<7,0, IF(I41>7,2, IF(I41=7,1)))","v":0},{"$f":"IF(S12<7,0, IF(S12>7,2, IF(S12=7,1)))","v":0},{"$f":"IF(S19<7,0, IF(S19>7,2, IF(S19=7,1)))","v":0},{"$f":"IF(V23<7,0, IF(V23>7,2, IF(V23=7,1)))","v":0},{"$f":"IF(Q31<7,0, IF(Q31>7,2, IF(Q31=7,1)))","v":0},{"$f":"IF(S37<7,0, IF(S37>7,2, IF(S37=7,1)))","v":0},0,null,{"$f":"D12+F18+D23+F30+F36+I41+S12+S19+V23+Q31+S37","v":0},{"$f":"F12+D18+F23+D30+D36+K41+Q12+Q19+X23+S31+Q37","v":0},null,0,0,0,0]
[null,null,null,null,null,null,null,null,null,null,null,null,null,null,null,null,null,null,null,null,null,null,null,null,null,null,null,null,null,null,"TAG FALCONER",{"$f":"IF(I12<7,0, IF(I12>7,2, IF(I12=7,1)))","v":0},{"$f":"IF(F19<7,0, IF(F19>7,2, IF(F19=7,1)))","v":0},{"$f":"IF(I23<7,0, IF(I23>7,2, IF(I23=7,1)))","v":0},{"$f":"IF(I29<7,0, IF(I29>7,2, IF(I29=7,1)))","v":0},{"$f":"IF(F37<7,0, IF(F37>7,2, IF(F37=7,1)))","v":0},{"$f":"IF(D43<7,0, IF(D43>7,2, IF(D43=7,1)))","v":0},{"$f":"IF(S14<7,0, IF(S14>7,2, IF(S14=7,1)))","v":0},{"$f":"IF(V17<7,0, IF(V17>7,2, IF(V17=7,1)))","v":0},{"$f":"IF(X23<7,0, IF(X23>7,2, IF(X23=7,1)))","v":0},{"$f":"IF(Q32<7,0, IF(Q32>7,2, IF(Q32=7,1)))","v":0},{"$f":"IF(X35<7,0, IF(X35>7,2, IF(X35=7,1)))","v":0},0,null,{"$f":"I12+F19+I23+I29+F37+D43+S14+V17+X23+Q32+X35","v":0},{"$f":"K12+D19+K23+K29+D37+F43+Q14+X17+V23+S32+V35","v":0},null,0,0,0,0]
["DATE","TIME","TABLE 4",null,null,null,null,"TABLE 5",null,null,null,null,null,"DATE","TIME","TABLE 4",null,null,null,null,"TABLE 5",null,null,null,null,null,null,null,null,null,"MATT ATASOY",{"$f":"IF(D14<7,0, IF(D14>7,2, IF(D14=7,1)))","v":0},{"$f":"IF(K17<7,0, IF(K17>7,2, IF(K17=7,1)))","v":0},{"$f":"IF(K23<7,0, IF(K23>7,2, IF(K23=7,1)))","v":0},{"$f":"IF(D31<7,0, IF(D31>7,2, IF(D31=7,1)))","v":0},{"$f":"IF(K35<7,0, IF(K35>7,2, IF(K35=7,1)))","v":0},{"$f":"IF(D42<7,0, IF(D42>7,2, IF(D42=7,1)))","v":0},{"$f":"IF(X12<7,0, IF(X12>7,2, IF(X12=7,1)))","v":0},{"$f":"IF(Q19<7,0, IF(Q19>7,2, IF(Q19=7,1)))","v":0},{"$f":"IF(Q23<7,0, IF(Q23>7,2, IF(Q23=7,1)))","v":0},{"$f":"IF(Q29<7,0, IF(Q29>7,2, IF(Q29=7,1)))","v":0},{"$f":"IF(S35<7,0, IF(S35>7,2, IF(S35=7,1)))","v":0},0,null,{"$f":"D14+K17+K23+D31+K35+D42+X12+Q19+Q23+Q29+S35","v":0},{"$f":"F14+I17+I23+F31+I35+F42+V12+S19+S23+S29+Q35","v":0},null,0,0,0,0]
["TUES 14.10.14","7.30 PM",{"$f":"R7","v":"STEVE PRIOR"},null,"V",null,{"$f":"E3","v":"ROB WALSH"},{"$f":"E2","v":"DYLAN LEARY"},null,"V",null,{"$f":"R2","v":"MATT ATASOY"},null,"TUES 25.11.14","7.30 PM",{"$f":"R3","v":"BYE"},null,"V",null,{"$f":"E5","v":"SPIKE HARLING"},{"$f":"E7","v":"TAG FALCONER"},null,"V",null,{"$f":"E2","v":"DYLAN LEARY"},null,null,null,null,null,"BYE",{"$f":"IF(F14<7,0, IF(F14>7,2, IF(F14=7,1)))","v":0},{"$f":"IF(D19<7,0, IF(D19>7,2, IF(D19=7,1)))","v":0},{"$f":"IF(F23<7,0, IF(F23>7,2, IF(F23=7,1)))","v":0},{"$f":"IF(D29<7,0, IF(D29>7,2, IF(D29=7,1)))","v":0},{"$f":"IF(F35<7,0, IF(F35>7,2, IF(F35=7,1)))","v":0},{"$f":"IF(I42<7,0, IF(I42>7,2, IF(I42=7,1)))","v":0},{"$f":"IF(Q11<7,0, IF(Q11>7,2, IF(Q11=7,1)))","v":0},{"$f":"IF(Q17<7,0, IF(Q17>7,2, IF(Q17=7,1)))","v":0},{"$f":"IF(S26<7,0, IF(S26>7,2, IF(S26=7,1)))","v":0},{"$f":"IF(V29<7,0, IF(V29>7,2, IF(V29=7,1)))","v":0},{"$f":"IF(S38<7,0, IF(S38>7,2, IF(S38=7,1)))","v":0},0,null,{"$f":"F14+D19+F23+D29+F35+I42+Q11+Q17+S26+V29+S38","v":0},{"$f":"D14+F19+D23+F29+D35+K42+S11+S17+Q26+X29+Q38","v":0},null,0,0,0,0]
[null,"9.00 PM",{"$f":"R4","v":"JAY COWAN"},null,"V",null,{"$f":"E6","v":"VIKAS SABHARWAL"},{"$f":"R5","v":"CRAIG WILSON"},null,"V",null,{"$f":"E5","v":"SPIKE HARLING"},null,null,"9.00 PM",{"$f":"R6","v":"PAUL MONTAGUE"},null,"V",null,{"$f":"R7","v":"STEVE PRIOR"},{"$f":"R4","v":"JAY COWAN"},null,"V",null,{"$f":"E4","v":"LUCKY BIRDY"},null,null,null,null,null,"JAY COWAN",{"$f":"IF(K12<7,0, IF(K12>7,2, IF(K12=7,1)))","v":0},{"$f":"IF(D18<7,0, IF(D18>7,2, IF(D18=7,1)))","v":0},{"$f":"IF(I24<7,0, IF(I24>7,2, IF(I24=7,1)))","v":0},{"$f":"IF(I30<7,0, IF(I30>7,2, IF(I30=7,1)))","v":0},{"$f":"IF(I36<7,0, IF(I36>7,2, IF(I36=7,1)))","v":0},{"$f":"IF(K42<7,0, IF(K42>7,2, IF(K42=7,1)))","v":0},{"$f":"IF(V12<7,0, IF(V12>7,2, IF(V12=7,1)))","v":0},{"$f":"IF(V18<7,0, IF(V18>7,2, IF(V18=7,1)))","v":0},{"$f":"IF(V24<7,0, IF(V24>7,2, IF(V24=7,1)))","v":0},{"$f":"IF(V30<7,0, IF(V30>7,2, IF(V30=7,1)))","v":0},{"$f":"IF(X36<7,0, IF(X36>7,2, IF(X36=7,1)))","v":0},0,null,{"$f":"K12+D18+I24+I30+I36+K42+V12+V18+V24+V30+X36","v":0},{"$f":"I12+F18+K24+K30+K36+I42+X12+X18+X24+X30+V36","v":0},null,0,0,0,0]
["WEDS 15.10.14","7.30 PM",{"$f":"R3","v":"BYE"},null,"V",null,{"$f":"E7","v":"TAG FALCONER"},"N/A",null,"V",null,"N/A",null,"WEDS 26.11.14","7.30 PM",{"$f":"R2","v":"MATT ATASOY"},null,"V",null,{"$f":"E6","v":"VIKAS SABHARWAL"},"N/A",null,"V",null,"N/A",null,null,null,null,null,"CRAIG WILSON",{"$f":"IF(F12<7,0, IF(F12>7,2, IF(F12=7,1)))","v":0},{"$f":"IF(I18<7,0, IF(I18>7,2, IF(I18=7,1)))","v":0},{"$f":"IF(D26<7,0, IF(D26>7,2, IF(D26=7,1)))","v":0},{"$f":"IF(D32<7,0, IF(D32>7,2, IF(D32=7,1)))","v":0},{"$f":"IF(D38<7,0, IF(D38>7,2, IF(D38=7,1)))","v":0},{"$f":"IF(F42<7,0, IF(F42>7,2, IF(F42=7,1)))","v":0},{"$f":"IF(Q14<7,0, IF(Q14>7,2, IF(Q14=7,1)))","v":0},{"$f":"IF(Q20<7,0, IF(Q20>7,2, IF(Q20=7,1)))","v":0},{"$f":"IF(S24<7,0, IF(S24>7,2, IF(S24=7,1)))","v":0},{"$f":"IF(X30<7,0, IF(X30>7,2, IF(X30=7,1)))","v":0},{"$f":"IF(Q38<7,0, IF(Q38>7,2, IF(Q38=7,1)))","v":0},0,null,{"$f":"F12+I18+D26+D32+D38+F42+Q14+Q20+S24+X30+Q38","v":0},{"$f":"D12+K18+F26+F32+F38+D42+S14+S20+Q24+V30+S38","v":0},null,0,0,0,0]
[null,"9.00 PM",{"$f":"R6","v":"PAUL MONTAGUE"},null,"V",null,{"$f":"E4","v":"LUCKY BIRDY"},"N/A",null,"V",null,"N/A",null,null,"9.00 PM",{"$f":"R5","v":"CRAIG WILSON"},null,"V",null,{"$f":"E3","v":"ROB WALSH"},"N/A",null,"V",null,"N/A",null,null,null,null,null,"PAUL MONTAGUE",{"$f":"IF(F13<7,0, IF(F13>7,2, IF(F13=7,1)))","v":0},{"$f":"IF(D20<7,0, IF(D20>7,2, IF(D20=7,1)))","v":0},{"$f":"IF(F24<7,0, IF(F24>7,2, IF(F24=7,1)))","v":0},{"$f":"IF(F32<7,0, IF(F32>7,2, IF(F32=7,1)))","v":0},{"$f":"IF(K36<7,0, IF(K36>7,2, IF(K36=7,1)))","v":0},{"$f":"IF(F43<7,0, IF(F43>7,2, IF(F43=7,1)))","v":0},{"$f":"IF(Q12<7,0, IF(Q12>7,2, IF(Q12=7,1)))","v":0},{"$f":"IF(Q18<7,0, IF(Q18>7,2, IF(Q18=7,1)))","v":0},{"$f":"IF(S25<7,0, IF(S25>7,2, IF(S25=7,1)))","v":0},{"$f":"IF(X29<7,0, IF(X29>7,2, IF(X29=7,1)))","v":0},{"$f":"IF(Q35<7,0, IF(Q35>7,2, IF(Q35=7,1)))","v":0},0,null,{"$f":"F13+D20+F24+F32+K36+F43+Q12+Q18+S25+X29+Q35","v":0},{"$f":"D13+F20+D24+D32+I36+D43+S12+S18+Q25+V29+S35","v":0},null,{"$f":"(AS20+AT20)/14","v":0},{"$f":"COUNTIF(AF20:AP20,$BA$10)","v":0},{"$f":"COUNTIF(AF20:AP20,$AZ$10)","v":0},{"$f":"AV20-AW20-AX20","v":0}]
[null,null,null,null,null,null,null,null,null,null,null,null,null,null,null,null,null,null,null,null,null,null,null,null,null,null,null,null,null,null,"STEVE PRIOR",{"$f":"IF(K11<7,0, IF(K11>7,2, IF(K11=7,1)))","v":0},{"$f":"IF(D17<7,0, IF(D17>7,2, IF(D17=7,1)))","v":0},{"$f":"IF(D25<7,0, IF(D25>7,2, IF(D25=7,1)))","v":0},{"$f":"IF(K30<7,0, IF(K30>7,2, IF(K30=7,1)))","v":0},{"$f":"IF(D35<7,0, IF(D35>7,2, IF(D35=7,1)))","v":0},{"$f":"IF(K41<7,0, IF(K41>7,2, IF(K41=7,1)))","v":0},{"$f":"IF(V11<7,0, IF(V11>7,2, IF(V11=7,1)))","v":0},{"$f":"IF(S18<7,0, IF(S18>7,2, IF(S18=7,1)))","v":0},{"$f":"IF(Q24<7,0, IF(Q24>7,2, IF(Q24=7,1)))","v":0},{"$f":"IF(S29<7,0, IF(S29>7,2, IF(S29=7,1)))","v":0},{"$f":"IF(V35<7,0, IF(V35>7,2, IF(V35=7,1)))","v":0},{"$f":"SUM(AF21:AP21)","v":0},null,{"$f":"K11+D17+D25+K30+D35+K41+V11+S18+Q24+S29+V35","v":0},{"$f":"I11+F17+F25+I30+F35+I41+X11+Q18+S24+Q29+X35","v":0},null,0,0,0,0]
["DATE","TIME","TABLE 4",null,null,null,null,"TABLE 5",null,null,null,null,null,"DATE","TIME","TABLE 4",null,null,null,null,"TABLE 5"]
["TUES 21.10.14","7.30 PM",{"$f":"E6","v":"VIKAS SABHARWAL"},null,"V",null,{"$f":"R3","v":"BYE"},{"$f":"E7","v":"TAG FALCONER"},null,"V",null,{"$f":"R2","v":"MATT ATASOY"},null,"TUES 02.12.14","7.30 PM",{"$f":"R2","v":"MATT ATASOY"},null,"V",null,{"$f":"E5","v":"SPIKE HARLING"},{"$f":"E6","v":"VIKAS SABHARWAL"},null,"V",null,{"$f":"E7","v":"TAG FALCONER"}]
[null,"9.00 PM",{"$f":"E3","v":"ROB WALSH"},null,"V",null,{"$f":"R6","v":"PAUL MONTAGUE"},{"$f":"R4","v":"JAY COWAN"},null,"V",null,{"$f":"E5","v":"SPIKE HARLING"},null,null,"9.00 PM",{"$f":"R7","v":"STEVE PRIOR"},null,"V",null,{"$f":"R5","v":"CRAIG WILSON"},{"$f":"R4","v":"JAY COWAN"},null,"V",null,{"$f":"E3","v":"ROB WALSH"}]
["WEDS 22.10.14","7.30 PM",{"$f":"R7","v":"STEVE PRIOR"},null,"V",null,{"$f":"E2","v":"DYLAN LEARY"},"N/A",null,"V",null,"N/A",null,"WEDS 03.12.14","7.30 PM",{"$f":"E2","v":"DYLAN LEARY"},null,"V",null,{"$f":"R6","v":"PAUL MONTAGUE"},"N/A",null,"V",null,"N/A"]
[null,"9.00 PM",{"$f":"R5","v":"CRAIG WILSON"},null,"V",null,{"$f":"E4","v":"LUCKY BIRDY"},"N/A",null,"V",null,"N/A",null,null,"9.00 PM",{"$f":"E4","v":"LUCKY BIRDY"},null,"V",null,{"$f":"R3","v":"BYE"},"N/A",null,"V",null,"N/A"]
[]
["DATE","TIME","TABLE 4",null,null,null,null,"TABLE 5",null,null,null,null,null,"DATE","TIME","TABLE 4",null,null,null,null,"TABLE 5"]
["TUES 28.10.14","7.30 PM",{"$f":"R3","v":"BYE"},null,"V",null,{"$f":"E3","v":"ROB WALSH"},{"$f":"E7","v":"TAG FALCONER"},null,"V",null,{"$f":"E5","v":"SPIKE HARLING"},null,"TUES 09.12.14","7.30 PM",{"$f":"R2","v":"MATT ATASOY"},null,"V",null,{"$f":"R7","v":"STEVE PRIOR"},{"$f":"R3","v":"BYE"},null,"V",null,{"$f":"R6","v":"PAUL MONTAGUE"}]
[null,"9.00 PM",{"$f":"E2","v":"DYLAN LEARY"},null,"V",null,{"$f":"E6","v":"VIKAS SABHARWAL"},{"$f":"R4","v":"JAY COWAN"},null,"V",null,{"$f":"R7","v":"STEVE PRIOR"},null,null,"9.00 PM",{"$f":"E5","v":"SPIKE HARLING"},null,"V",null,{"$f":"E2","v":"DYLAN LEARY"},{"$f":"R4","v":"JAY COWAN"},null,"V",null,{"$f":"R5","v":"CRAIG WILSON"}]
["WEDS 29.10.14","7.30 PM",{"$f":"R2","v":"MATT ATASOY"},null,"V",null,{"$f":"E4","v":"LUCKY BIRDY"},"N/A",null,"V",null,"N/A",null,"WEDS 10.12.14","7.30 PM",{"$f":"E6","v":"VIKAS SABHARWAL"},null,"V",null,{"$f":"E4","v":"LUCKY BIRDY"},"N/A",null,"V",null,"N/A"]
[null,"9.00 PM",{"$f":"R5","v":"CRAIG WILSON"},null,"V",null,{"$f":"R6","v":"PAUL MONTAGUE"},"N/A",null,"V",null,"N/A",null,null,"9.00 PM",{"$f":"E7","v":"TAG FALCONER"},null,"V",null,{"$f":"E3","v":"ROB WALSH"},"N/A",null,"V",null,"N/A"]
[]
["DATE","TIME","TABLE 4",null,null,null,null,"TABLE 5",null,null,null,null,null,"DATE","TIME","TABLE 4",null,null,null,null,"TABLE 5"]
["TUES 04.11.14","7.30 PM",{"$f":"R7","v":"STEVE PRIOR"},null,"V",null,{"$f":"R3","v":"BYE"},{"$f":"E3","v":"ROB WALSH"},null,"V",null,{"$f":"R2","v":"MATT ATASOY"},null,"TUES 16.12.14","7.30 PM",{"$f":"R6","v":"PAUL MONTAGUE"},null,"V",null,{"$f":"R2","v":"MATT ATASOY"},{"$f":"R7","v":"STEVE PRIOR"},null,"V",null,{"$f":"E7","v":"TAG FALCONER"}]
[null,"9.00 PM",{"$f":"E5","v":"SPIKE HARLING"},null,"V",null,{"$f":"E6","v":"VIKAS SABHARWAL"},{"$f":"R4","v":"JAY COWAN"},null,"V",null,{"$f":"R6","v":"PAUL MONTAGUE"},null,null,"9.00 PM",{"$f":"E4","v":"LUCKY BIRDY"},null,"V",null,{"$f":"E5","v":"SPIKE HARLING"},{"$f":"E2","v":"DYLAN LEARY"},null,"V",null,{"$f":"R4","v":"JAY COWAN"}]
["WEDS 05.11.14","7.30 PM",{"$f":"E4","v":"LUCKY BIRDY"},null,"V",null,{"$f":"E7","v":"TAG FALCONER"},"N/A",null,"V",null,"N/A",null,"WEDS 17.12.14","7.30 PM",{"$f":"E3","v":"ROB WALSH"},null,"V",null,{"$f":"E6","v":"VIKAS SABHARWAL"},"N/A",null,"V",null,"N/A"]
[null,"9.00 PM",{"$f":"R5","v":"CRAIG WILSON"},null,"V",null,{"$f":"E2","v":"DYLAN LEARY"},"N/A",null,"V",null,"N/A",null,null,"9.00 PM",{"$f":"R5","v":"CRAIG WILSON"},null,"V",null,{"$f":"R3","v":"BYE"},"N/A",null,"V",null,"N/A"]
[]
["DATE","TIME","TABLE 4",null,null,null,null,"TABLE 5"]
["TUES 11.11.14","7.30 PM",{"$f":"E5","v":"SPIKE HARLING"},null,"V",null,{"$f":"E3","v":"ROB WALSH"},{"$f":"E6","v":"VIKAS SABHARWAL"},null,"V",null,{"$f":"R7","v":"STEVE PRIOR"}]
[null,"9.00 PM",{"$f":"R2","v":"MATT ATASOY"},null,"V",null,{"$f":"R5","v":"CRAIG WILSON"},{"$f":"R3","v":"BYE"},null,"V",null,{"$f":"R4","v":"JAY COWAN"}]
["WEDS 12.11.14","7.30 PM",{"$f":"E7","v":"TAG FALCONER"},null,"V",null,{"$f":"R6","v":"PAUL MONTAGUE"},"N/A",null,"V",null,"N/A"]
[null,"9.00 PM",{"$f":"E2","v":"DYLAN LEARY"},null,"V",null,{"$f":"E4","v":"LUCKY BIRDY"},"N/A",null,"V",null,"N/A"]

{"sheet":"DIVISION 1","index":1,"n_rows":44,"n_cols":53,"rows_kept":44,"cut":false,"hidden":false,"merged":[[21,15,21,19],[21,20,21,24],[15,15,15,19],[15,20,15,24],[3,7,3,9],[3,17,3,19],[3,20,3,22],[4,7,4,9],[4,17,4,19],[4,20,4,22],[3,15,3,16],[4,15,4,16],[2,2,2,3],[3,2,3,3],[4,2,4,3],[5,2,5,3],[6,2,6,3],[40,0,41,0],[34,13,35,13],[42,0,43,0],[36,13,37,13],[3,4,3,6],[4,4,4,6],[5,4,5,6],[6,4,6,6],[5,7,5,9],[34,0,35,0],[36,0,37,0],[39,2,39,6],[39,7,39,11],[18,0,19,0],[21,2,21,6],[21,7,21,11],[33,20,33,24],[33,15,33,19],[27,2,27,6],[27,7,27,11],[28,0,29,0],[30,0,31,0],[33,2,33,6],[33,7,33,11],[27,15,27,19],[27,20,27,24],[22,0,23,0],[24,0,25,0],[10,0,11,0],[12,0,13,0],[16,0,17,0],[15,2,15,6],[15,7,15,11],[5,20,5,22],[6,7,6,9],[6,17,6,19],[6,20,6,22],[5,17,5,19],[9,15,9,19],[9,20,9,24],[9,2,9,6],[9,7,9,11],[5,15,5,16],[6,15,6,16],[0,2,0,11],[0,15,0,24],[1,7,1,9],[1,17,1,19],[1,20,1,22],[1,2,1,3],[1,15,1,16],[2,7,2,9],[2,17,2,19],[2,20,2,22],[1,4,1,6],[2,4,2,6],[2,15,2,16]]}
[null,null,"DIVISION 1",null,null,null,null,null,null,null,null,null,null,null,null,"DIVISION 1"]
[null,null,1,null,{"$f":"AE10","v":"OLLIE FARRELL"},0,0,"oliverfarrell@outlook.com",null,null,"07742 336859",null,null,null,null,7,null,{"$f":"AE16","v":"PAUL WEBB"},null,null,"paulwebb700@gmail.com",null,null,"07791 854458"]
[null,null,2,null,"TONY PRICE",0,0,"tonyprice1968@live.co.uk",null,null,"07837 052476",null,null,null,null,8,null,{"$f":"AE17","v":"STUART TOWNSEND"},null,null,"stuarttownsend03@gmail.com",null,null,"07833 760413"]
[null,null,3,null,"DEAN HARDESTY",0,0,"deanhardesty@hotmail.com",null,null,"07801 067522",null,null,null,null,9,null,"DANNY CURTIN",null,null,"vinemaidenhead@aol.com",null,null,"07918 620154"]
[null,null,4,null,"BILLY DOCHERTY",0,0,null,null,null,"07917 166957",null,null,null,null,10,null,"GRAHAM BRIGHT",null,null,"mrgbright@hotmail.com",null,null,"07568 349633"]
[null,null,5,null,"MATT HING",0,0,"matthing@btinternet.com",null,null,"07454 224267",null,null,null,null,11,null,"MATTY GATES",null,null,"gatesmatthew7@gmail.com",null,null,"07774 557316"]
[null,null,6,null,"CHRIS FAWCETT",0,0,"mancfaw@hotmail.com",null,null,"07917 858900",null,null,null,null,12,null,{"$f":"AE21","v":"JEZ HILL"},null,null,"jez_hill@live.co.uk",null,null,"07979 333433"]
[]
[null,null,null,null,null,null,null,null,null,null,null,null,null,null,null,null,null,null,null,null,null,null,null,null,null,null,null,null,null,null,null,"Wk1","WK2","Wk3","Wk4","Wk5","Wk6","Wk7","Wk8","Wk9","Wk10","Wk11","TOTAL",null,"FF","AA",null,"P","W","D","L"]
["DATE","TIME","TABLE 10",null,null,null,null,"TABLE 13",null,null,null,null,null,"DATE","TIME","TABLE 10",null,null,null,null,"TABLE 13",null,null,null,null,null,null,null,null,null,"OLLIE FARRELL",{"$f":"IF(F11<5,0, IF(F11>5,2, IF(F11=5,1)))","v":0},{"$f":"IF(I17<5,0, IF(I17>5,2, IF(I17=5,1)))","v":0},{"$f":"IF(F25<5,0, IF(F25>5,2, IF(F25=5,1)))","v":0},{"$f":"IF(D30<5,0, IF(D30>5,2, IF(D30=5,1)))","v":0},{"$f":"IF(F38<5,0, IF(F38>5,2, IF(F38=5,1)))","v":0},{"$f":"IF(D44<5,0, IF(D44>5,2, IF(D44=5,1)))","v":0},{"$f":"IF(S11<5,0, IF(S11>5,2, IF(S11=5,1)))","v":0},{"$f":"IF(X17<5,0, IF(X17>5,2, IF(X17=5,1)))","v":0},{"$f":"IF(Q25<5,0, IF(Q25>5,2, IF(Q25=5,1)))","v":0},{"$f":"IF(S30<5,0, IF(S30>5,2, IF(S30=5,1)))","v":0},{"$f":"IF(V36<5,0, IF(V36>5,2, IF(V36=5,1)))","v":0},{"$f":"SUM(AF10:AP10)","v":0},null,{"$f":"F11+I17+F25+D30+F38+D44+S11+X17+Q25+S30+V36","v":0},{"$f":"D11+K17+D25+F30+D38+F44+Q11+V17+S25+Q30+X36","v":0},null,{"$f":"(AS10+AT10)/10","v":0},{"$f":"COUNTIF(AF10:AP10,$BA$10)","v":0},{"$f":"COUNTIF(AF10:AP10,$AZ$10)","v":0},{"$f":"AV10-AW10-AX10","v":0},1,2]
[{"$f":"PREMIER!A11","v":"TUES 07.10.14"},"7.30 PM",{"$f":"E3","v":"TONY PRICE"},null,"V",null,{"$f":"E2","v":"OLLIE FARRELL"},{"$f":"E4","v":"DEAN HARDESTY"},null,"V",null,{"$f":"R7","v":"JEZ HILL"},null,{"$f":"PREMIER!N11","v":"TUES 18.11.14"},"7.30 PM",{"$f":"R3","v":"STUART TOWNSEND"},null,"V",null,{"$f":"E2","v":"OLLIE FARRELL"},{"$f":"R7","v":"JEZ HILL"},null,"V",null,{"$f":"E5","v":"BILLY DOCHERTY"},null,null,null,null,null,"TONY PRICE",{"$f":"IF(D11<5,0, IF(D11>5,2, IF(D11=5,1)))","v":0},{"$f":"IF(F17<5,0, IF(F17>5,2, IF(F17=5,1)))","v":0},{"$f":"IF(D24<5,0, IF(D24>5,2, IF(D24=5,1)))","v":0},{"$f":"IF(F29<5,0, IF(F29>5,2, IF(F29=5,1)))","v":0},{"$f":"IF(I35<5,0, IF(I35>5,2, IF(I35=5,1)))","v":0},{"$f":"IF(F41<5,0, IF(F41>5,2, IF(F41=5,1)))","v":0},{"$f":"IF(Q13<5,0, IF(Q13>5,2, IF(Q13=5,1)))","v":0},{"$f":"IF(S20<5,0, IF(S20>5,2, IF(S20=5,1)))","v":0},{"$f":"IF(X24<5,0, IF(X24>5,2, IF(X24=5,1)))","v":0},{"$f":"IF(S32<5,0, IF(S32>5,2, IF(S32=5,1)))","v":0},{"$f":"IF(Q37<5,0, IF(Q37>5,2, IF(Q37=5,1)))","v":0},{"$f":"SUM(AF11:AP11)","v":0},null,{"$f":"D11+F17+D24+F29+I35+F41+Q13+S20+X24+S32+Q37","v":0},{"$f":"F11+D17+F24+D29+K35+D41+S13+Q20+V24+Q32+S37","v":0},null,{"$f":"(AS11+AT11)/10","v":0},{"$f":"COUNTIF(AF11:AP11,$BA$10)","v":0},{"$f":"COUNTIF(AF11:AP11,$AZ$10)","v":0},{"$f":"AV11-AW11-AX11","v":0}]
[null,"9.00 PM",{"$f":"E6","v":"MATT HING"},null,"V",null,{"$f":"R5","v":"GRAHAM BRIGHT"},{"$f":"E7","v":"CHRIS FAWCETT"},null,"V",null,{"$f":"R4","v":"DANNY CURTIN"},null,null,"9.00 PM",{"$f":"R6","v":"MATTY GATES"},null,"V",null,{"$f":"E6","v":"MATT HING"},{"$f":"R4","v":"DANNY CURTIN"},null,"V",null,{"$f":"R2","v":"PAUL WEBB"},null,null,null,null,null,"DEAN HARDESTY",{"$f":"IF(I11<5,0, IF(I11>5,2, IF(I11=5,1)))","v":0},{"$f":"IF(F20<5,0, IF(F20>5,2, IF(F20=5,1)))","v":0},{"$f":"IF(F26<5,0, IF(F26>5,2, IF(F26=5,1)))","v":0},{"$f":"IF(F31<5,0, IF(F31>5,2, IF(F31=5,1)))","v":0},{"$f":"IF(D37<5,0, IF(D37>5,2, IF(D37=5,1)))","v":0},{"$f":"IF(F44<5,0, IF(F44>5,2, IF(F44=5,1)))","v":0},{"$f":"IF(S13<5,0, IF(S13>5,2, IF(S13=5,1)))","v":0},{"$f":"IF(X18<5,0, IF(X18>5,2, IF(X18=5,1)))","v":0},{"$f":"IF(V25<5,0, IF(V25>5,2, IF(V25=5,1)))","v":0},{"$f":"IF(S31<5,0, IF(S31>5,2, IF(S31=5,1)))","v":0},{"$f":"IF(Q36<5,0, IF(Q36>5,2, IF(Q36=5,1)))","v":0},{"$f":"SUM(AF12:AP12)","v":0},null,{"$f":"I11+F20+F26+F31+D37+F44+S13+X18+V25+S31+Q36","v":0},{"$f":"K11+D20+D26+D31+F37+D44+Q13+V18+X25+Q31+S36","v":0},null,0,0,0,0]
[{"$f":"PREMIER!A13","v":"WEDS 08.10.14"},"7.30 PM",{"$f":"E5","v":"BILLY DOCHERTY"},null,"V",null,{"$f":"R6","v":"MATTY GATES"},{"$f":"R2","v":"PAUL WEBB"},null,"V",null,{"$f":"R3","v":"STUART TOWNSEND"},null,{"$f":"PREMIER!N13","v":"WEDS 19.11.14"},"7.30 PM",{"$f":"E3","v":"TONY PRICE"},null,"V",null,{"$f":"E4","v":"DEAN HARDESTY"},"N/A",null,"V",null,"N/A",null,null,null,null,null,"BILLY DOCHERTY",{"$f":"IF(D13<5,0, IF(D13>5,2, IF(D13=5,1)))","v":0},{"$f":"IF(K18<5,0, IF(K18>5,2, IF(K18=5,1)))","v":0},{"$f":"IF(K24<5,0, IF(K24>5,2, IF(K24=5,1)))","v":0},{"$f":"IF(K29<5,0, IF(K29>5,2, IF(K29=5,1)))","v":0},{"$f":"IF(D36<5,0, IF(D36>5,2, IF(D36=5,1)))","v":0},{"$f":"IF(D41<5,0, IF(D41>5,2, IF(D41=5,1)))","v":0},{"$f":"IF(X11<5,0, IF(X11>5,2, IF(X11=5,1)))","v":0},{"$f":"IF(S17<5,0, IF(S17>5,2, IF(S17=5,1)))","v":0},{"$f":"IF(S23<5,0, IF(S23>5,2, IF(S23=5,1)))","v":0},{"$f":"IF(Q30<5,0, IF(Q30>5,2, IF(Q30=5,1)))","v":0},{"$f":"IF(S36<5,0, IF(S36>5,2, IF(S36=5,1)))","v":0},0,null,{"$f":"D13+K18+K24+K29+D36+D41+X11+S17+S23+Q30+S36","v":0},{"$f":"F13+I18+I24+I29+F36+F41+V11+Q17+Q23+S30+Q36","v":0},null,0,0,0,0]
[null,"9.00 PM","N/A",null,"V",null,"N/A","N/A",null,"V",null,"N/A",null,null,"9.00 PM",{"$f":"R5","v":"GRAHAM BRIGHT"},null,"V",null,{"$f":"E7","v":"CHRIS FAWCETT"},"N/A",null,"V",null,"N/A",null,null,null,null,null,"MATT HING",{"$f":"IF(D12<5,0, IF(D12>5,2, IF(D12=5,1)))","v":0},{"$f":"IF(F18<5,0, IF(F18>5,2, IF(F18=5,1)))","v":0},{"$f":"IF(D23<5,0, IF(D23>5,2, IF(D23=5,1)))","v":0},{"$f":"IF(F30<5,0, IF(F30>5,2, IF(F30=5,1)))","v":0},{"$f":"IF(F36<5,0, IF(F36>5,2, IF(F36=5,1)))","v":0},{"$f":"IF(I41<5,0, IF(I41>5,2, IF(I41=5,1)))","v":0},{"$f":"IF(S12<5,0, IF(S12>5,2, IF(S12=5,1)))","v":0},{"$f":"IF(S19<5,0, IF(S19>5,2, IF(S19=5,1)))","v":0},{"$f":"IF(V23<5,0, IF(V23>5,2, IF(V23=5,1)))","v":0},{"$f":"IF(Q31<5,0, IF(Q31>5,2, IF(Q31=5,1)))","v":0},{"$f":"IF(S37<5,0, IF(S37>5,2, IF(S37=5,1)))","v":0},0,null,{"$f":"D12+F18+D23+F30+F36+I41+S12+S19+V23+Q31+S37","v":0},{"$f":"F12+D18+F23+D30+D36+K41+Q12+Q19+X23+S31+Q37","v":0},null,0,0,0,0]
[null,null,null,null,null,null,null,null,null,null,null,null,null,null,null,null,null,null,null,null,null,null,null,null,null,null,null,null,null,null,"CHRIS FAWCETT",{"$f":"IF(I12<5,0, IF(I12>5,2, IF(I12=5,1)))","v":0},{"$f":"IF(F19<5,0, IF(F19>5,2, IF(F19=5,1)))","v":0},{"$f":"IF(I23<5,0, IF(I23>5,2, IF(I23=5,1)))","v":0},{"$f":"IF(I29<5,0, IF(I29>5,2, IF(I29=5,1)))","v":0},{"$f":"IF(F37<5,0, IF(F37>5,2, IF(F37=5,1)))","v":0},{"$f":"IF(D43<5,0, IF(D43>5,2, IF(D43=5,1)))","v":0},{"$f":"IF(S14<5,0, IF(S14>5,2, IF(S14=5,1)))","v":0},{"$f":"IF(V17<5,0, IF(V17>5,2, IF(V17=5,1)))","v":0},{"$f":"IF(X23<5,0, IF(X23>5,2, IF(X23=5,1)))","v":0},{"$f":"IF(Q32<5,0, IF(Q32>5,2, IF(Q32=5,1)))","v":0},{"$f":"IF(X35<5,0, IF(X35>5,2, IF(X35=5,1)))","v":0},0,null,{"$f":"I12+F19+I23+I29+F37+D43+S14+V17+X23+Q32+X35","v":0},{"$f":"K12+D19+K23+K29+D37+F43+Q14+X17+V23+S32+V35","v":0},null,0,0,0,0]
["DATE","TIME","TABLE 10",null,null,null,null,"TABLE 13",null,null,null,null,null,"DATE","TIME","TABLE 10",null,null,null,null,"TABLE 13",null,null,null,null,null,null,null,null,null,"PAUL WEBB",{"$f":"IF(I13<5,0, IF(I13>5,2, IF(I13=5,1)))","v":0},{"$f":"IF(K17<5,0, IF(K17>5,2, IF(K17=5,1)))","v":0},{"$f":"IF(K23<5,0, IF(K23>5,2, IF(K23=5,1)))","v":0},{"$f":"IF(D31<5,0, IF(D31>5,2, IF(D31=5,1)))","v":0},{"$f":"IF(K35<5,0, IF(K35>5,2, IF(K35=5,1)))","v":0},{"$f":"IF(D42<5,0, IF(D42>5,2, IF(D42=5,1)))","v":0},{"$f":"IF(X12<5,0, IF(X12>5,2, IF(X12=5,1)))","v":0},{"$f":"IF(Q19<5,0, IF(Q19>5,2, IF(Q19=5,1)))","v":0},{"$f":"IF(Q23<5,0, IF(Q23>5,2, IF(Q23=5,1)))","v":0},{"$f":"IF(Q29<5,0, IF(Q29>5,2, IF(Q29=5,1)))","v":0},{"$f":"IF(S35<5,0, IF(S35>5,2, IF(S35=5,1)))","v":0},0,null,{"$f":"I13+K17+K23+D31+K35+D42+X12+Q19+Q23+Q29+S35","v":0},{"$f":"K13+I17+I23+F31+I35+F42+V12+S19+S23+S29+Q35","v":0},null,0,0,0,0]
[{"$f":"PREMIER!A17","v":"TUES 14.10.14"},"7.30 PM",{"$f":"R7","v":"JEZ HILL"},null,"V",null,{"$f":"E3","v":"TONY PRICE"},{"$f":"E2","v":"OLLIE FARRELL"},null,"V",null,{"$f":"R2","v":"PAUL WEBB"},null,{"$f":"PREMIER!N17","v":"TUES 25.11.14"},"7.30 PM",{"$f":"R3","v":"STUART TOWNSEND"},null,"V",null,{"$f":"E5","v":"BILLY DOCHERTY"},{"$f":"E7","v":"CHRIS FAWCETT"},null,"V",null,{"$f":"E2","v":"OLLIE FARRELL"},null,null,null,null,null,"STUART TOWNSEND",{"$f":"IF(K13<5,0, IF(K13>5,2, IF(K13=5,1)))","v":0},{"$f":"IF(D19<5,0, IF(D19>5,2, IF(D19=5,1)))","v":0},{"$f":"IF(F23<5,0, IF(F23>5,2, IF(F23=5,1)))","v":0},{"$f":"IF(D29<5,0, IF(D29>5,2, IF(D29=5,1)))","v":0},{"$f":"IF(F35<5,0, IF(F35>5,2, IF(F35=5,1)))","v":0},{"$f":"IF(I42<5,0, IF(I42>5,2, IF(I42=5,1)))","v":0},{"$f":"IF(Q11<5,0, IF(Q11>5,2, IF(Q11=5,1)))","v":0},{"$f":"IF(Q17<5,0, IF(Q17>5,2, IF(Q17=5,1)))","v":0},{"$f":"IF(X25<5,0, IF(X25>5,2, IF(X25=5,1)))","v":0},{"$f":"IF(V29<5,0, IF(V29>5,2, IF(V29=5,1)))","v":0},{"$f":"IF(S38<5,0, IF(S38>5,2, IF(S38=5,1)))","v":0},0,null,{"$f":"K13+D19+F23+D29+F35+I42+Q11+Q17+X25+V29+S38","v":0},{"$f":"I13+F19+D23+F29+D35+K42+S11+S17+V25+X29+Q38","v":0},null,0,0,0,0]
[null,"9.00 PM",{"$f":"R4","v":"DANNY CURTIN"},null,"V",null,{"$f":"E6","v":"MATT HING"},{"$f":"R5","v":"GRAHAM BRIGHT"},null,"V",null,{"$f":"E5","v":"BILLY DOCHERTY"},null,null,"9.00 PM",{"$f":"R6","v":"MATTY GATES"},null,"V",null,{"$f":"R7","v":"JEZ HILL"},{"$f":"R4","v":"DANNY CURTIN"},null,"V",null,{"$f":"E4","v":"DEAN HARDESTY"},null,null,null,null,null,"DANNY CURTIN",{"$f":"IF(K12<5,0, IF(K12>5,2, IF(K12=5,1)))","v":0},{"$f":"IF(D18<5,0, IF(D18>5,2, IF(D18=5,1)))","v":0},{"$f":"IF(I24<5,0, IF(I24>5,2, IF(I24=5,1)))","v":0},{"$f":"IF(I30<5,0, IF(I30>5,2, IF(I30=5,1)))","v":0},{"$f":"IF(I36<5,0, IF(I36>5,2, IF(I36=5,1)))","v":0},{"$f":"IF(K42<5,0, IF(K42>5,2, IF(K42=5,1)))","v":0},{"$f":"IF(V12<5,0, IF(V12>5,2, IF(V12=5,1)))","v":0},{"$f":"IF(V18<5,0, IF(V18>5,2, IF(V18=5,1)))","v":0},{"$f":"IF(V24<5,0, IF(V24>5,2, IF(V24=5,1)))","v":0},{"$f":"IF(V30<5,0, IF(V30>5,2, IF(V30=5,1)))","v":0},{"$f":"IF(X36<5,0, IF(X36>5,2, IF(X36=5,1)))","v":0},0,null,{"$f":"K12+D18+I24+I30+I36+K42+V12+V18+V24+V30+X36","v":0},{"$f":"I12+F18+K24+K30+K36+I42+X12+X18+X24+X30+V36","v":0},null,0,0,0,0]
[{"$f":"PREMIER!A19","v":"WEDS 15.10.14"},"7.30 PM",{"$f":"R3","v":"STUART TOWNSEND"},null,"V",null,{"$f":"E7","v":"CHRIS FAWCETT"},"N/A",null,"V",null,"N/A",null,{"$f":"PREMIER!N19","v":"WEDS 26.11.14"},"7.30 PM",{"$f":"R2","v":"PAUL WEBB"},null,"V",null,{"$f":"E6","v":"MATT HING"},"N/A",null,"V",null,"N/A",null,null,null,null,null,"GRAHAM BRIGHT",{"$f":"IF(F12<5,0, IF(F12>5,2, IF(F12=5,1)))","v":0},{"$f":"IF(I18<5,0, IF(I18>5,2, IF(I18=5,1)))","v":0},{"$f":"IF(D26<5,0, IF(D26>5,2, IF(D26=5,1)))","v":0},{"$f":"IF(D32<5,0, IF(D32>5,2, IF(D32=5,1)))","v":0},{"$f":"IF(D38<5,0, IF(D38>5,2, IF(D38=5,1)))","v":0},{"$f":"IF(F42<5,0, IF(F42>5,2, IF(F42=5,1)))","v":0},{"$f":"IF(Q14<5,0, IF(Q14>5,2, IF(Q14=5,1)))","v":0},{"$f":"IF(Q20<5,0, IF(Q20>5,2, IF(Q20=5,1)))","v":0},{"$f":"IF(S24<5,0, IF(S24>5,2, IF(S24=5,1)))","v":0},{"$f":"IF(X30<5,0, IF(X30>5,2, IF(X30=5,1)))","v":0},{"$f":"IF(Q38<5,0, IF(Q38>5,2, IF(Q38=5,1)))","v":0},0,null,{"$f":"F12+I18+D26+D32+D38+F42+Q14+Q20+S24+X30+Q38","v":0},{"$f":"D12+K18+F26+F32+F38+D42+S14+S20+Q24+V30+S38","v":0},null,0,0,0,0]
[null,"9.00 PM",{"$f":"R6","v":"MATTY GATES"},null,"V",null,{"$f":"E4","v":"DEAN HARDESTY"},"N/A",null,"V",null,"N/A",null,null,"9.00 PM",{"$f":"R5","v":"GRAHAM BRIGHT"},null,"V",null,{"$f":"E3","v":"TONY PRICE"},"N/A",null,"V",null,"N/A",null,null,null,null,null,"MATTY GATES",{"$f":"IF(F13<5,0, IF(F13>5,2, IF(F13=5,1)))","v":0},{"$f":"IF(D20<5,0, IF(D20>5,2, IF(D20=5,1)))","v":0},{"$f":"IF(F24<5,0, IF(F24>5,2, IF(F24=5,1)))","v":0},{"$f":"IF(F32<5,0, IF(F32>5,2, IF(F32=5,1)))","v":0},{"$f":"IF(K36<5,0, IF(K36>5,2, IF(K36=5,1)))","v":0},{"$f":"IF(F43<5,0, IF(F43>5,2, IF(F43=5,1)))","v":0},{"$f":"IF(Q12<5,0, IF(Q12>5,2, IF(Q12=5,1)))","v":0},{"$f":"IF(Q18<5,0, IF(Q18>5,2, IF(Q18=5,1)))","v":0},{"$f":"IF(S25<5,0, IF(S25>5,2, IF(S25=5,1)))","v":0},{"$f":"IF(X29<5,0, IF(X29>5,2, IF(X29=5,1)))","v":0},{"$f":"IF(Q35<5,0, IF(Q35>5,2, IF(Q35=5,1)))","v":0},0,null,{"$f":"F13+D20+F24+F32+K36+F43+Q12+Q18+S25+X29+Q35","v":0},{"$f":"D13+F20+D24+D32+I36+D43+S12+S18+Q25+V29+S35","v":0},null,0,0,0,0]
[null,null,null,null,null,null,null,null,null,null,null,null,null,null,null,null,null,null,null,null,null,null,null,null,null,null,null,null,null,null,"JEZ HILL",{"$f":"IF(K11<5,0, IF(K11>5,2, IF(K11=5,1)))","v":0},{"$f":"IF(D17<5,0, IF(D17>5,2, IF(D17=5,1)))","v":0},{"$f":"IF(D25<5,0, IF(D25>5,2, IF(D25=5,1)))","v":0},{"$f":"IF(K30<5,0, IF(K30>5,2, IF(K30=5,1)))","v":0},{"$f":"IF(D35<5,0, IF(D35>5,2, IF(D35=5,1)))","v":0},{"$f":"IF(K41<5,0, IF(K41>5,2, IF(K41=5,1)))","v":0},{"$f":"IF(V11<5,0, IF(V11>5,2, IF(V11=5,1)))","v":0},{"$f":"IF(S18<5,0, IF(S18>5,2, IF(S18=5,1)))","v":0},{"$f":"IF(Q24<5,0, IF(Q24>5,2, IF(Q24=5,1)))","v":0},{"$f":"IF(S29<5,0, IF(S29>5,2, IF(S29=5,1)))","v":0},{"$f":"IF(V35<5,0, IF(V35>5,2, IF(V35=5,1)))","v":0},{"$f":"SUM(AF21:AP21)","v":0},null,{"$f":"K11+D17+D25+K30+D35+K41+V11+S18+Q24+S29+V35","v":0},{"$f":"I11+F17+F25+I30+F35+I41+X11+Q18+S24+Q29+X35","v":0},null,0,0,0,0]
["DATE","TIME","TABLE 10",null,null,null,null,"TABLE 13",null,null,null,null,null,"DATE","TIME","TABLE 10",null,null,null,null,"TABLE 13"]
[{"$f":"PREMIER!A23","v":"TUES 21.10.14"},"7.30 PM",{"$f":"E6","v":"MATT HING"},null,"V",null,{"$f":"R3","v":"STUART TOWNSEND"},{"$f":"E7","v":"CHRIS FAWCETT"},null,"V",null,{"$f":"R2","v":"PAUL WEBB"},null,{"$f":"PREMIER!N23","v":"TUES 02.12.14"},"7.30 PM",{"$f":"R2","v":"PAUL WEBB"},null,"V",null,{"$f":"E5","v":"BILLY DOCHERTY"},{"$f":"E6","v":"MATT HING"},null,"V",null,{"$f":"E7","v":"CHRIS FAWCETT"}]
[null,"9.00 PM",{"$f":"E3","v":"TONY PRICE"},null,"V",null,{"$f":"R6","v":"MATTY GATES"},{"$f":"R4","v":"DANNY CURTIN"},null,"V",null,{"$f":"E5","v":"BILLY DOCHERTY"},null,null,"9.00 PM",{"$f":"R7","v":"JEZ HILL"},null,"V",null,{"$f":"R5","v":"GRAHAM BRIGHT"},{"$f":"R4","v":"DANNY CURTIN"},null,"V",null,{"$f":"E3","v":"TONY PRICE"}]
[{"$f":"PREMIER!A25","v":"WEDS 22.10.14"},"7.30 PM",{"$f":"R7","v":"JEZ HILL"},null,"V",null,{"$f":"E2","v":"OLLIE FARRELL"},"N/A",null,"V",null,"N/A",null,{"$f":"PREMIER!N25","v":"WEDS 03.12.14"},"7.30 PM",{"$f":"E2","v":"OLLIE FARRELL"},null,"V",null,{"$f":"R6","v":"MATTY GATES"},{"$f":"E4","v":"DEAN HARDESTY"},null,"V",null,{"$f":"R3","v":"STUART TOWNSEND"}]
[null,"9.00 PM",{"$f":"R5","v":"GRAHAM BRIGHT"},null,"V",null,{"$f":"E4","v":"DEAN HARDESTY"},"N/A",null,"V",null,"N/A",null,null,"9.00 PM","N/A",null,"V",null,"N/A","N/A",null,"V",null,"N/A"]
[]
["DATE","TIME","TABLE 10",null,null,null,null,"TABLE 13",null,null,null,null,null,"DATE","TIME","TABLE 10",null,null,null,null,"TABLE 13"]
[{"$f":"PREMIER!A29","v":"TUES 28.10.14"},"7.30 PM",{"$f":"R3","v":"STUART TOWNSEND"},null,"V",null,{"$f":"E3","v":"TONY PRICE"},{"$f":"E7","v":"CHRIS FAWCETT"},null,"V",null,{"$f":"E5","v":"BILLY DOCHERTY"},null,{"$f":"PREMIER!N29","v":"TUES 09.12.14"},"7.30 PM",{"$f":"R2","v":"PAUL WEBB"},null,"V",null,{"$f":"R7","v":"JEZ HILL"},{"$f":"R3","v":"STUART TOWNSEND"},null,"V",null,{"$f":"R6","v":"MATTY GATES"}]
[null,"9.00 PM",{"$f":"E2","v":"OLLIE FARRELL"},null,"V",null,{"$f":"E6","v":"MATT HING"},{"$f":"R4","v":"DANNY CURTIN"},null,"V",null,{"$f":"R7","v":"JEZ HILL"},null,null,"9.00 PM",{"$f":"E5","v":"BILLY DOCHERTY"},null,"V",null,{"$f":"E2","v":"OLLIE FARRELL"},{"$f":"R4","v":"DANNY CURTIN"},null,"V",null,{"$f":"R5","v":"GRAHAM BRIGHT"}]
[{"$f":"PREMIER!A31","v":"WEDS 29.10.14"},"7.30 PM",{"$f":"R2","v":"PAUL WEBB"},null,"V",null,{"$f":"E4","v":"DEAN HARDESTY"},"N/A",null,"V",null,"N/A",null,{"$f":"PREMIER!N31","v":"WEDS 10.12.14"},"7.30 PM",{"$f":"E6","v":"MATT HING"},null,"V",null,{"$f":"E4","v":"DEAN HARDESTY"},"N/A",null,"V",null,"N/A"]
[null,"9.00 PM",{"$f":"R5","v":"GRAHAM BRIGHT"},null,"V",null,{"$f":"R6","v":"MATTY GATES"},"N/A",null,"V",null,"N/A",null,null,"9.00 PM",{"$f":"E7","v":"CHRIS FAWCETT"},null,"V",null,{"$f":"E3","v":"TONY PRICE"},"N/A",null,"V",null,"N/A"]
[]
["DATE","TIME","TABLE 10",null,null,null,null,"TABLE 13",null,null,null,null,null,"DATE","TIME","TABLE 10",null,null,null,null,"TABLE 13"]
[{"$f":"PREMIER!A35","v":"TUES 04.11.14"},"7.30 PM",{"$f":"R7","v":"JEZ HILL"},null,"V",null,{"$f":"R3","v":"STUART TOWNSEND"},{"$f":"E3","v":"TONY PRICE"},null,"V",null,{"$f":"R2","v":"PAUL WEBB"},null,{"$f":"PREMIER!N35","v":"TUES 16.12.14"},"7.30 PM",{"$f":"R6","v":"MATTY GATES"},null,"V",null,{"$f":"R2","v":"PAUL WEBB"},{"$f":"R7","v":"JEZ HILL"},null,"V",null,{"$f":"E7","v":"CHRIS FAWCETT"}]
[null,"9.00 PM",{"$f":"E5","v":"BILLY DOCHERTY"},null,"V",null,{"$f":"E6","v":"MATT HING"},{"$f":"R4","v":"DANNY CURTIN"},null,"V",null,{"$f":"R6","v":"MATTY GATES"},null,null,"9.00 PM",{"$f":"E4","v":"DEAN HARDESTY"},null,"V",null,{"$f":"E5","v":"BILLY DOCHERTY"},{"$f":"E2","v":"OLLIE FARRELL"},null,"V",null,{"$f":"R4","v":"DANNY CURTIN"}]
[{"$f":"PREMIER!A37","v":"WEDS 05.11.14"},"7.30 PM",{"$f":"E4","v":"DEAN HARDESTY"},null,"V",null,{"$f":"E7","v":"CHRIS FAWCETT"},"N/A",null,"V",null,"N/A",null,{"$f":"PREMIER!N37","v":"WEDS 17.12.14"},"7.30 PM",{"$f":"E3","v":"TONY PRICE"},null,"V",null,{"$f":"E6","v":"MATT HING"},"N/A",null,"V",null,"N/A"]
[null,"9.00 PM",{"$f":"R5","v":"GRAHAM BRIGHT"},null,"V",null,{"$f":"E2","v":"OLLIE FARRELL"},"N/A",null,"V",null,"N/A",null,null,"9.00 PM",{"$f":"R5","v":"GRAHAM BRIGHT"},null,"V",null,{"$f":"R3","v":"STUART TOWNSEND"},"N/A",null,"V",null,"N/A"]
[]
["DATE","TIME","TABLE 10",null,null,null,null,"TABLE 13"]
[{"$f":"PREMIER!A41","v":"TUES 11.11.14"},"7.30 PM",{"$f":"E5","v":"BILLY DOCHERTY"},null,"V",null,{"$f":"E3","v":"TONY PRICE"},{"$f":"E6","v":"MATT HING"},null,"V",null,{"$f":"R7","v":"JEZ HILL"}]
[null,"9.00 PM",{"$f":"R2","v":"PAUL WEBB"},null,"V",null,{"$f":"R5","v":"GRAHAM BRIGHT"},{"$f":"R3","v":"STUART TOWNSEND"},null,"V",null,{"$f":"R4","v":"DANNY CURTIN"}]
[{"$f":"PREMIER!A43","v":"WEDS 12.11.14"},"7.30 PM",{"$f":"E7","v":"CHRIS FAWCETT"},null,"V",null,{"$f":"R6","v":"MATTY GATES"},"N/A",null,"V",null,"N/A"]
[null,"9.00 PM",{"$f":"E2","v":"OLLIE FARRELL"},null,"V",null,{"$f":"E4","v":"DEAN HARDESTY"},"N/A",null,"V",null,"N/A"]

{"sheet":"DVISION 2","index":2,"n_rows":44,"n_cols":53,"rows_kept":44,"cut":false,"hidden":false,"merged":[[6,20,6,22],[9,20,9,24],[4,20,4,22],[5,20,5,22],[27,15,27,19],[27,20,27,24],[21,15,21,19],[21,20,21,24],[15,15,15,19],[15,20,15,24],[40,0,41,0],[34,13,35,13],[42,0,43,0],[36,13,37,13],[1,2,1,3],[2,2,2,3],[3,2,3,3],[4,2,4,3],[5,2,5,3],[36,0,37,0],[39,2,39,6],[39,7,39,11],[34,0,35,0],[21,7,21,11],[22,0,23,0],[24,0,25,0],[33,15,33,19],[33,20,33,24],[28,0,29,0],[30,0,31,0],[33,2,33,6],[33,7,33,11],[27,2,27,6],[27,7,27,11],[10,0,11,0],[12,0,13,0],[16,0,17,0],[18,0,19,0],[21,2,21,6],[15,2,15,6],[15,7,15,11],[4,7,4,9],[4,17,4,19],[5,4,5,6],[5,7,5,9],[5,17,5,19],[4,4,4,6],[4,15,4,16],[5,15,5,16],[9,2,9,6],[9,7,9,11],[6,2,6,3],[6,15,6,16],[9,15,9,19],[6,4,6,6],[6,7,6,9],[6,17,6,19],[0,2,0,11],[0,15,0,24],[1,4,1,6],[1,7,1,9],[1,17,1,19],[1,20,1,22],[1,15,1,16],[2,4,2,6],[2,7,2,9],[2,17,2,19],[2,20,2,22],[3,4,3,6],[3,7,3,9],[3,17,3,19],[3,20,3,22],[2,15,2,16],[3,15,3,16]]}
[null,null,"DIVISION 2",null,null,null,null,null,null,null,null,null,null,null,null,"DIVISION 2"]
[null,null,1,null,{"$f":"AE10","v":"DIANA KIRK"},0,0,"red_head74@hotmail.co.uk",null,null,"07738 021318",null,null,null,null,7,null,{"$f":"AE16","v":"SHANE HILL"},null,null,"shanehill1@hotmail.co.uk",null,null,"07899 651595"]
[null,null,2,null,"DAVE WHATMORE",0,0,"davewhatmore@hotmail.com",null,null,"07510 664842",null,null,null,null,8,null,"TOM HING",null,null,"tom.hing@morganlovell.com",null,null,"07712 870936"]
[null,null,3,null,"RYAN JONES",0,0,"RJAuto1980@gmail.com",null,null,"07824 828822",null,null,null,null,9,null,"ANN MIDDLETON",null,null,"annm63@rocketmail.com",null,null,"07871 098637"]
[null,null,4,null,"ANTHONY MOORE",0,0,"moore.arlc@mail.com",null,null,"07902 935635",null,null,null,null,10,null,"STEVE BARBER",null,null,"steve_barber@hotmail.co.uk",null,null,"07920 852347"]
[null,null,5,null,"KEIRON FALK",0,0,"slogfest@yahoo.co.uk",null,null,"07879 494896",null,null,null,null,11,null,"TOM MELLOR",null,null,"tom.mellor@aol.co.uk",null,null,"07789 968796"]
[null,null,6,null,"CHRIS CALLAGHAN",0,0,"chris24callaghan@hotmail.co.uk",null,null,"07712 275549",null,null,null,null,12,null,"BYE"]
[]
[null,null,null,null,null,null,null,null,null,null,null,null,null,null,null,null,null,null,null,null,null,null,null,null,null,null,null,null,null,null,null,"Wk1","WK2","Wk3","Wk4","Wk5","Wk6","Wk7","Wk8","Wk9","Wk10","Wk11","TOTAL",null,"FF","AA",null,"P","W","D","L"]
["DATE","TIME","TABLE 11",null,null,null,null,"TABLE 12",null,null,null,null,null,"DATE","TIME","TABLE 11",null,null,null,null,"TABLE 12",null,null,null,null,null,null,null,null,null,"DIANA KIRK",{"$f":"IF(F11<5,0, IF(F11>5,2, IF(F11=5,1)))","v":0},{"$f":"IF(I17<5,0, IF(I17>5,2, IF(I17=5,1)))","v":0},{"$f":"IF(F25<5,0, IF(F25>5,2, IF(F25=5,1)))","v":0},{"$f":"IF(D30<5,0, IF(D30>5,2, IF(D30=5,1)))","v":0},{"$f":"IF(K36<5,0, IF(K36>5,2, IF(K36=5,1)))","v":0},{"$f":"IF(D44<5,0, IF(D44>5,2, IF(D44=5,1)))","v":0},{"$f":"IF(S11<5,0, IF(S11>5,2, IF(S11=5,1)))","v":0},{"$f":"IF(X17<5,0, IF(X17>5,2, IF(X17=5,1)))","v":0},{"$f":"IF(Q25<5,0, IF(Q25>5,2, IF(Q25=5,1)))","v":0},{"$f":"IF(S30<5,0, IF(S30>5,2, IF(S30=5,1)))","v":0},{"$f":"IF(V36<5,0, IF(V36>5,2, IF(V36=5,1)))","v":0},{"$f":"SUM(AF10:AP10)","v":0},null,{"$f":"F11+I17+F25+D30+K36+D44+S11+X17+Q25+S30+V36","v":0},{"$f":"D11+K17+D25+F30+I36+F44+Q11+V17+S25+Q30+X36","v":0},null,{"$f":"(AS10+AT10)/10","v":0},{"$f":"COUNTIF(AF10:AP10,$BA$10)","v":0},{"$f":"COUNTIF(AF10:AP10,$AZ$10)","v":0},{"$f":"AV10-AW10-AX10","v":0},1,2]
[{"$f":"PREMIER!A11","v":"TUES 07.10.14"},"7.30 PM",{"$f":"E3","v":"DAVE WHATMORE"},null,"V",null,{"$f":"E2","v":"DIANA KIRK"},{"$f":"E4","v":"RYAN JONES"},null,"V",null,{"$f":"R7","v":"BYE"},null,{"$f":"PREMIER!N11","v":"TUES 18.11.14"},"7.30 PM",{"$f":"R3","v":"TOM HING"},null,"V",null,{"$f":"E2","v":"DIANA KIRK"},{"$f":"R4","v":"ANN MIDDLETON"},null,"V",null,{"$f":"R2","v":"SHANE HILL"},null,null,null,null,null,"DAVE WHATMORE",{"$f":"IF(D11<5,0, IF(D11>5,2, IF(D11=5,1)))","v":0},{"$f":"IF(F17<5,0, IF(F17>5,2, IF(F17=5,1)))","v":0},{"$f":"IF(D24<5,0, IF(D24>5,2, IF(D24=5,1)))","v":0},{"$f":"IF(F29<5,0, IF(F29>5,2, IF(F29=5,1)))","v":0},{"$f":"IF(I35<5,0, IF(I35>5,2, IF(I35=5,1)))","v":0},{"$f":"IF(F41<5,0, IF(F41>5,2, IF(F41=5,1)))","v":0},{"$f":"IF(Q14<5,0, IF(Q14>5,2, IF(Q14=5,1)))","v":0},{"$f":"IF(S20<5,0, IF(S20>5,2, IF(S20=5,1)))","v":0},{"$f":"IF(X24<5,0, IF(X24>5,2, IF(X24=5,1)))","v":0},{"$f":"IF(S32<5,0, IF(S32>5,2, IF(S32=5,1)))","v":0},{"$f":"IF(Q37<5,0, IF(Q37>5,2, IF(Q37=5,1)))","v":0},{"$f":"SUM(AF11:AP11)","v":0},null,{"$f":"D11+F17+D24+F29+I35+F41+Q14+S20+X24+S32+Q37","v":0},{"$f":"F11+D17+F24+D29+K35+D41+S14+Q20+V24+Q32+S37","v":0},null,{"$f":"(AS11+AT11)/10","v":0},{"$f":"COUNTIF(AF11:AP11,$BA$10)","v":0},{"$f":"COUNTIF(AF11:AP11,$AZ$10)","v":0},{"$f":"AV11-AW11-AX11","v":0}]
[null,"9.00 PM",{"$f":"E6","v":"KEIRON FALK"},null,"V",null,{"$f":"R5","v":"STEVE BARBER"},{"$f":"E7","v":"CHRIS CALLAGHAN"},null,"V",null,{"$f":"R4","v":"ANN MIDDLETON"},null,null,"9.00 PM",{"$f":"R6","v":"TOM MELLOR"},null,"V",null,{"$f":"E6","v":"KEIRON FALK"},{"$f":"R7","v":"BYE"},null,"V",null,{"$f":"E5","v":"ANTHONY MOORE"},null,null,null,null,null,"RYAN JONES",{"$f":"IF(I11<5,0, IF(I11>5,2, IF(I11=5,1)))","v":0},{"$f":"IF(F20<5,0, IF(F20>5,2, IF(F20=5,1)))","v":0},{"$f":"IF(I24<5,0, IF(I24>5,2, IF(I24=5,1)))","v":0},{"$f":"IF(F32<5,0, IF(F32>5,2, IF(F32=5,1)))","v":0},{"$f":"IF(D37<5,0, IF(D37>5,2, IF(D37=5,1)))","v":0},{"$f":"IF(F44<5,0, IF(F44>5,2, IF(F44=5,1)))","v":0},{"$f":"IF(S14<5,0, IF(S14>5,2, IF(S14=5,1)))","v":0},{"$f":"IF(X18<5,0, IF(X18>5,2, IF(X18=5,1)))","v":0},{"$f":"IF(Q26<5,0, IF(Q26>5,2, IF(Q26=5,1)))","v":0},{"$f":"IF(X30<5,0, IF(X30>5,2, IF(X30=5,1)))","v":0},{"$f":"IF(Q36<5,0, IF(Q36>5,2, IF(Q36=5,1)))","v":0},{"$f":"SUM(AF12:AP12)","v":0},null,{"$f":"I11+F20+I24+F32+D37+F44+S14+X18+Q26+X30+Q36","v":0},{"$f":"K11+D20+K24+D32+F37+D44+Q14+V18+S26+V30+S36","v":0},null,0,0,0,0]
[{"$f":"PREMIER!A13","v":"WEDS 08.10.14"},"7.30 PM",{"$f":"E5","v":"ANTHONY MOORE"},null,"V",null,{"$f":"R6","v":"TOM MELLOR"},"N/A",null,"V",null,"N/A",null,{"$f":"PREMIER!N13","v":"WEDS 19.11.14"},"7.30 PM",{"$f":"R5","v":"STEVE BARBER"},null,"V",null,{"$f":"E7","v":"CHRIS CALLAGHAN"},"N/A",null,"V",null,"N/A",null,null,null,null,null,"ANTHONY MOORE",{"$f":"IF(D13<5,0, IF(D13>5,2, IF(D13=5,1)))","v":0},{"$f":"IF(K18<5,0, IF(K18>5,2, IF(K18=5,1)))","v":0},{"$f":"IF(D26<5,0, IF(D26>5,2, IF(D26=5,1)))","v":0},{"$f":"IF(K30<5,0, IF(K30>5,2, IF(K30=5,1)))","v":0},{"$f":"IF(D36<5,0, IF(D36>5,2, IF(D36=5,1)))","v":0},{"$f":"IF(D41<5,0, IF(D41>5,2, IF(D41=5,1)))","v":0},{"$f":"IF(X12<5,0, IF(X12>5,2, IF(X12=5,1)))","v":0},{"$f":"IF(S18<5,0, IF(S18>5,2, IF(S18=5,1)))","v":0},{"$f":"IF(S23<5,0, IF(S23>5,2, IF(S23=5,1)))","v":0},{"$f":"IF(Q30<5,0, IF(Q30>5,2, IF(Q30=5,1)))","v":0},{"$f":"IF(S36<5,0, IF(S36>5,2, IF(S36=5,1)))","v":0},0,null,{"$f":"D13+K18+D26+K30+D36+D41+X12+S18+S23+Q30+S36","v":0},{"$f":"F13+I18+F26+I30+F36+F41+V12+Q18+Q23+S30+Q36","v":0},null,0,0,0,0]
[null,"9.00 PM",{"$f":"R2","v":"SHANE HILL"},null,"V",null,{"$f":"R3","v":"TOM HING"},"N/A",null,"V",null,"N/A",null,null,"9.00 PM",{"$f":"E3","v":"DAVE WHATMORE"},null,"V",null,{"$f":"E4","v":"RYAN JONES"},"N/A",null,"V",null,"N/A",null,null,null,null,null,"KEIRON FALK",{"$f":"IF(D12<5,0, IF(D12>5,2, IF(D12=5,1)))","v":0},{"$f":"IF(F18<5,0, IF(F18>5,2, IF(F18=5,1)))","v":0},{"$f":"IF(D23<5,0, IF(D23>5,2, IF(D23=5,1)))","v":0},{"$f":"IF(F30<5,0, IF(F30>5,2, IF(F30=5,1)))","v":0},{"$f":"IF(F36<5,0, IF(F36>5,2, IF(F36=5,1)))","v":0},{"$f":"IF(I41<5,0, IF(I41>5,2, IF(I41=5,1)))","v":0},{"$f":"IF(S12<5,0, IF(S12>5,2, IF(S12=5,1)))","v":0},{"$f":"IF(S19<5,0, IF(S19>5,2, IF(S19=5,1)))","v":0},{"$f":"IF(V23<5,0, IF(V23>5,2, IF(V23=5,1)))","v":0},{"$f":"IF(V30<5,0, IF(V30>5,2, IF(V30=5,1)))","v":0},{"$f":"IF(S37<5,0, IF(S37>5,2, IF(S37=5,1)))","v":0},0,null,{"$f":"D12+F18+D23+F30+F36+I41+S12+S19+V23+V30+S37","v":0},{"$f":"F12+D18+F23+D30+D36+K41+Q12+Q19+X23+X30+Q37","v":0},null,0,0,0,0]
[null,null,null,null,null,null,null,null,null,null,null,null,null,null,null,null,null,null,null,null,null,null,null,null,null,null,null,null,null,null,"CHRIS CALLAGHAN",{"$f":"IF(I12<5,0, IF(I12>5,2, IF(I12=5,1)))","v":0},{"$f":"IF(F19<5,0, IF(F19>5,2, IF(F19=5,1)))","v":0},{"$f":"IF(I23<5,0, IF(I23>5,2, IF(I23=5,1)))","v":0},{"$f":"IF(I30<5,0, IF(I30>5,2, IF(I30=5,1)))","v":0},{"$f":"IF(F37<5,0, IF(F37>5,2, IF(F37=5,1)))","v":0},{"$f":"IF(D43<5,0, IF(D43>5,2, IF(D43=5,1)))","v":0},{"$f":"IF(S13<5,0, IF(S13>5,2, IF(S13=5,1)))","v":0},{"$f":"IF(V17<5,0, IF(V17>5,2, IF(V17=5,1)))","v":0},{"$f":"IF(X23<5,0, IF(X23>5,2, IF(X23=5,1)))","v":0},{"$f":"IF(Q32<5,0, IF(Q32>5,2, IF(Q32=5,1)))","v":0},{"$f":"IF(X35<5,0, IF(X35>5,2, IF(X35=5,1)))","v":0},0,null,{"$f":"I12+F19+I23+I30+F37+D43+S13+V17+X23+Q32+X35","v":0},{"$f":"K12+D19+K23+K30+D37+F43+Q13+X17+V23+S32+V35","v":0},null,0,0,0,0]
["DATE","TIME","TABLE 11",null,null,null,null,"TABLE 12",null,null,null,null,null,"DATE","TIME","TABLE 11",null,null,null,null,"TABLE 12",null,null,null,null,null,null,null,null,null,"SHANE HILL",{"$f":"IF(D14<5,0, IF(D14>5,2, IF(D14=5,1)))","v":0},{"$f":"IF(K17<5,0, IF(K17>5,2, IF(K17=5,1)))","v":0},{"$f":"IF(K23<5,0, IF(K23>5,2, IF(K23=5,1)))","v":0},{"$f":"IF(D32<5,0, IF(D32>5,2, IF(D32=5,1)))","v":0},{"$f":"IF(K35<5,0, IF(K35>5,2, IF(K35=5,1)))","v":0},{"$f":"IF(D42<5,0, IF(D42>5,2, IF(D42=5,1)))","v":0},{"$f":"IF(X11<5,0, IF(X11>5,2, IF(X11=5,1)))","v":0},{"$f":"IF(Q19<5,0, IF(Q19>5,2, IF(Q19=5,1)))","v":0},{"$f":"IF(Q23<5,0, IF(Q23>5,2, IF(Q23=5,1)))","v":0},{"$f":"IF(Q29<5,0, IF(Q29>5,2, IF(Q29=5,1)))","v":0},{"$f":"IF(S35<5,0, IF(S35>5,2, IF(S35=5,1)))","v":0},0,null,{"$f":"D14+K17+K23+D32+K35+D42+X11+Q19+Q23+Q29+S35","v":0},{"$f":"F14+I17+I23+F32+I35+F42+V11+S19+S23+S29+Q35","v":0},null,0,0,0,0]
[{"$f":"PREMIER!A17","v":"TUES 14.10.14"},"7.30 PM",{"$f":"R7","v":"BYE"},null,"V",null,{"$f":"E3","v":"DAVE WHATMORE"},{"$f":"E2","v":"DIANA KIRK"},null,"V",null,{"$f":"R2","v":"SHANE HILL"},null,{"$f":"PREMIER!N17","v":"TUES 25.11.14"},"7.30 PM",{"$f":"R6","v":"TOM MELLOR"},null,"V",null,{"$f":"R7","v":"BYE"},{"$f":"E7","v":"CHRIS CALLAGHAN"},null,"V",null,{"$f":"E2","v":"DIANA KIRK"},null,null,null,null,null,"TOM HING",{"$f":"IF(F14<5,0, IF(F14>5,2, IF(F14=5,1)))","v":0},{"$f":"IF(D19<5,0, IF(D19>5,2, IF(D19=5,1)))","v":0},{"$f":"IF(F23<5,0, IF(F23>5,2, IF(F23=5,1)))","v":0},{"$f":"IF(D29<5,0, IF(D29>5,2, IF(D29=5,1)))","v":0},{"$f":"IF(F35<5,0, IF(F35>5,2, IF(F35=5,1)))","v":0},{"$f":"IF(I42<5,0, IF(I42>5,2, IF(I42=5,1)))","v":0},{"$f":"IF(Q11<5,0, IF(Q11>5,2, IF(Q11=5,1)))","v":0},{"$f":"IF(Q18<5,0, IF(Q18>5,2, IF(Q18=5,1)))","v":0},{"$f":"IF(S26<5,0, IF(S26>5,2, IF(S26=5,1)))","v":0},{"$f":"IF(V29<5,0, IF(V29>5,2, IF(V29=5,1)))","v":0},{"$f":"IF(S38<5,0, IF(S38>5,2, IF(S38=5,1)))","v":0},0,null,{"$f":"F14+D19+F23+D29+F35+I42+Q11+Q18+S26+V29+S38","v":0},{"$f":"D14+F19+D23+F29+D35+K42+S11+S18+Q26+X29+Q38","v":0},null,0,0,0,0]
[null,"9.00 PM",{"$f":"R4","v":"ANN MIDDLETON"},null,"V",null,{"$f":"E6","v":"KEIRON FALK"},{"$f":"R5","v":"STEVE BARBER"},null,"V",null,{"$f":"E5","v":"ANTHONY MOORE"},null,null,"9.00 PM",{"$f":"R3","v":"TOM HING"},null,"V",null,{"$f":"E5","v":"ANTHONY MOORE"},{"$f":"R4","v":"ANN MIDDLETON"},null,"V",null,{"$f":"E4","v":"RYAN JONES"},null,null,null,null,null,"ANN MIDDLETON",{"$f":"IF(K12<5,0, IF(K12>5,2, IF(K12=5,1)))","v":0},{"$f":"IF(D18<5,0, IF(D18>5,2, IF(D18=5,1)))","v":0},{"$f":"IF(F26<5,0, IF(F26>5,2, IF(F26=5,1)))","v":0},{"$f":"IF(I29<5,0, IF(I29>5,2, IF(I29=5,1)))","v":0},{"$f":"IF(F38<5,0, IF(F38>5,2, IF(F38=5,1)))","v":0},{"$f":"IF(K42<5,0, IF(K42>5,2, IF(K42=5,1)))","v":0},{"$f":"IF(V11<5,0, IF(V11>5,2, IF(V11=5,1)))","v":0},{"$f":"IF(V18<5,0, IF(V18>5,2, IF(V18=5,1)))","v":0},{"$f":"IF(V24<5,0, IF(V24>5,2, IF(V24=5,1)))","v":0},{"$f":"IF(Q31<5,0, IF(Q31>5,2, IF(Q31=5,1)))","v":0},{"$f":"IF(X36<5,0, IF(X36>5,2, IF(X36=5,1)))","v":0},0,null,{"$f":"K12+D18+F26+I29+F38+K42+V11+V18+V24+Q31+X36","v":0},{"$f":"I12+F18+D26+K29+D38+I42+X11+X18+X24+S31+V36","v":0},null,0,0,0,0]
[{"$f":"PREMIER!A19","v":"WEDS 15.10.14"},"7.30 PM",{"$f":"R3","v":"TOM HING"},null,"V",null,{"$f":"E7","v":"CHRIS CALLAGHAN"},"N/A",null,"V",null,"N/A",null,{"$f":"PREMIER!N19","v":"WEDS 26.11.14"},"7.30 PM",{"$f":"R2","v":"SHANE HILL"},null,"V",null,{"$f":"E6","v":"KEIRON FALK"},"N/A",null,"V",null,"N/A",null,null,null,null,null,"STEVE BARBER",{"$f":"IF(F12<5,0, IF(F12>5,2, IF(F12=5,1)))","v":0},{"$f":"IF(I18<5,0, IF(I18>5,2, IF(I18=5,1)))","v":0},{"$f":"IF(K24<5,0, IF(K24>5,2, IF(K24=5,1)))","v":0},{"$f":"IF(D31<5,0, IF(D31>5,2, IF(D31=5,1)))","v":0},{"$f":"IF(I36<5,0, IF(I36>5,2, IF(I36=5,1)))","v":0},{"$f":"IF(F42<5,0, IF(F42>5,2, IF(F42=5,1)))","v":0},{"$f":"IF(Q13<5,0, IF(Q13>5,2, IF(Q13=5,1)))","v":0},{"$f":"IF(Q20<5,0, IF(Q20>5,2, IF(Q20=5,1)))","v":0},{"$f":"IF(S24<5,0, IF(S24>5,2, IF(S24=5,1)))","v":0},{"$f":"IF(S31<5,0, IF(S31>5,2, IF(S31=5,1)))","v":0},{"$f":"IF(Q38<5,0, IF(Q38>5,2, IF(Q38=5,1)))","v":0},0,null,{"$f":"F12+I18+K24+D31+I36+F42+Q13+Q20+S24+S31+Q38","v":0},{"$f":"D12+K18+I24+F31+K36+D42+S13+S20+Q24+Q31+S38","v":0},null,0,0,0,0]
[null,"9.00 PM",{"$f":"R6","v":"TOM MELLOR"},null,"V",null,{"$f":"E4","v":"RYAN JONES"},"N/A",null,"V",null,"N/A",null,null,"9.00 PM",{"$f":"R5","v":"STEVE BARBER"},null,"V",null,{"$f":"E3","v":"DAVE WHATMORE"},"N/A",null,"V",null,"N/A",null,null,null,null,null,"TOM MELLOR",{"$f":"IF(F13<5,0, IF(F13>5,2, IF(F13=5,1)))","v":0},{"$f":"IF(D20<5,0, IF(D20>5,2, IF(D20=5,1)))","v":0},{"$f":"IF(F24<5,0, IF(F24>5,2, IF(F24=5,1)))","v":0},{"$f":"IF(F31<5,0, IF(F31>5,2, IF(F31=5,1)))","v":0},{"$f":"IF(D38<5,0, IF(D38>5,2, IF(D38=5,1)))","v":0},{"$f":"IF(F43<5,0, IF(F43>5,2, IF(F43=5,1)))","v":0},{"$f":"IF(Q12<5,0, IF(Q12>5,2, IF(Q12=5,1)))","v":0},{"$f":"IF(Q17<5,0, IF(Q17>5,2, IF(Q17=5,1)))","v":0},{"$f":"IF(S25<5,0, IF(S25>5,2, IF(S25=5,1)))","v":0},{"$f":"IF(X29<5,0, IF(X29>5,2, IF(X29=5,1)))","v":0},{"$f":"IF(Q35<5,0, IF(Q35>5,2, IF(Q35=5,1)))","v":0},0,null,{"$f":"F13+D20+F24+F31+D38+F43+Q12+Q17+S25+X29+Q35","v":0},{"$f":"D13+F20+D24+D31+F38+D43+S12+S17+Q25+V29+S35","v":0},null,0,0,0,0]
[null,null,null,null,null,null,null,null,null,null,null,null,null,null,null,null,null,null,null,null,null,null,null,null,null,null,null,null,null,null,"BYE",{"$f":"IF(K11<5,0, IF(K11>5,2, IF(K11=5,1)))","v":0},{"$f":"IF(D17<5,0, IF(D17>5,2, IF(D17=5,1)))","v":0},{"$f":"IF(D25<5,0, IF(D25>5,2, IF(D25=5,1)))","v":0},{"$f":"IF(K29<5,0, IF(K29>5,2, IF(K29=5,1)))","v":0},{"$f":"IF(D35<5,0, IF(D35>5,2, IF(D35=5,1)))","v":0},{"$f":"IF(K41<5,0, IF(K41>5,2, IF(K41=5,1)))","v":0},{"$f":"IF(V12<5,0, IF(V12>5,2, IF(V12=5,1)))","v":0},{"$f":"IF(S17<5,0, IF(S17>5,2, IF(S17=5,1)))","v":0},{"$f":"IF(Q24<5,0, IF(Q24>5,2, IF(Q24=5,1)))","v":0},{"$f":"IF(S29<5,0, IF(S29>5,2, IF(S29=5,1)))","v":0},{"$f":"IF(V35<5,0, IF(V35>5,2, IF(V35=5,1)))","v":0},{"$f":"SUM(AF21:AP21)","v":0},null,{"$f":"K11+D17+D25+K29+D35+K41+V12+S17+Q24+S29+V35","v":0},{"$f":"I11+F17+F25+I29+F35+I41+X12+Q17+S24+Q29+X35","v":0},null,0,0,0,0]
["DATE","TIME","TABLE 11",null,null,null,null,"TABLE 12",null,null,null,null,null,"DATE","TIME","TABLE 11",null,null,null,null,"TABLE 12"]
[{"$f":"PREMIER!A23","v":"TUES 21.10.14"},"7.30 PM",{"$f":"E6","v":"KEIRON FALK"},null,"V",null,{"$f":"R3","v":"TOM HING"},{"$f":"E7","v":"CHRIS CALLAGHAN"},null,"V",null,{"$f":"R2","v":"SHANE HILL"},null,{"$f":"PREMIER!N23","v":"TUES 02.12.14"},"7.30 PM",{"$f":"R2","v":"SHANE HILL"},null,"V",null,{"$f":"E5","v":"ANTHONY MOORE"},{"$f":"E6","v":"KEIRON FALK"},null,"V",null,{"$f":"E7","v":"CHRIS CALLAGHAN"}]
[null,"9.00 PM",{"$f":"E3","v":"DAVE WHATMORE"},null,"V",null,{"$f":"R6","v":"TOM MELLOR"},{"$f":"E4","v":"RYAN JONES"},null,"V",null,{"$f":"R5","v":"STEVE BARBER"},null,null,"9.00 PM",{"$f":"R7","v":"BYE"},null,"V",null,{"$f":"R5","v":"STEVE BARBER"},{"$f":"R4","v":"ANN MIDDLETON"},null,"V",null,{"$f":"E3","v":"DAVE WHATMORE"}]
[{"$f":"PREMIER!A25","v":"WEDS 22.10.14"},"7.30 PM",{"$f":"R7","v":"BYE"},null,"V",null,{"$f":"E2","v":"DIANA KIRK"},"N/A",null,"V",null,"N/A",null,{"$f":"PREMIER!N25","v":"WEDS 03.12.14"},"7.30 PM",{"$f":"E2","v":"DIANA KIRK"},null,"V",null,{"$f":"R6","v":"TOM MELLOR"},"N/A",null,"V",null,"N/A"]
[null,"9.00 PM",{"$f":"E5","v":"ANTHONY MOORE"},null,"V",null,{"$f":"R4","v":"ANN MIDDLETON"},"N/A",null,"V",null,"N/A",null,null,"9.00 PM",{"$f":"E4","v":"RYAN JONES"},null,"V",null,{"$f":"R3","v":"TOM HING"},"N/A",null,"V",null,"N/A"]
[]
["DATE","TIME","TABLE 11",null,null,null,null,"TABLE 12",null,null,null,null,null,"DATE","TIME","TABLE 11",null,null,null,null,"TABLE 12"]
[{"$f":"PREMIER!A29","v":"TUES 28.10.14"},"7.30 PM",{"$f":"R3","v":"TOM HING"},null,"V",null,{"$f":"E3","v":"DAVE WHATMORE"},{"$f":"R4","v":"ANN MIDDLETON"},null,"V",null,{"$f":"R7","v":"BYE"},null,{"$f":"PREMIER!N29","v":"TUES 09.12.14"},"7.30 PM",{"$f":"R2","v":"SHANE HILL"},null,"V",null,{"$f":"R7","v":"BYE"},{"$f":"R3","v":"TOM HING"},null,"V",null,{"$f":"R6","v":"TOM MELLOR"}]
[null,"9.00 PM",{"$f":"E2","v":"DIANA KIRK"},null,"V",null,{"$f":"E6","v":"KEIRON FALK"},{"$f":"E7","v":"CHRIS CALLAGHAN"},null,"V",null,{"$f":"E5","v":"ANTHONY MOORE"},null,null,"9.00 PM",{"$f":"E5","v":"ANTHONY MOORE"},null,"V",null,{"$f":"E2","v":"DIANA KIRK"},{"$f":"E6","v":"KEIRON FALK"},null,"V",null,{"$f":"E4","v":"RYAN JONES"}]
[{"$f":"PREMIER!A31","v":"WEDS 29.10.14"},"7.30 PM",{"$f":"R5","v":"STEVE BARBER"},null,"V",null,{"$f":"R6","v":"TOM MELLOR"},"N/A",null,"V",null,"N/A",null,{"$f":"PREMIER!N31","v":"WEDS 10.12.14"},"7.30 PM",{"$f":"R4","v":"ANN MIDDLETON"},null,"V",null,{"$f":"R5","v":"STEVE BARBER"},"N/A",null,"V",null,"N/A"]
[null,"9.00 PM",{"$f":"R2","v":"SHANE HILL"},null,"V",null,{"$f":"E4","v":"RYAN JONES"},"N/A",null,"V",null,"N/A",null,null,"9.00 PM",{"$f":"E7","v":"CHRIS CALLAGHAN"},null,"V",null,{"$f":"E3","v":"DAVE WHATMORE"},"N/A",null,"V",null,"N/A"]
[]
["DATE","TIME","TABLE 11",null,null,null,null,"TABLE 12",null,null,null,null,null,"DATE","TIME","TABLE 11",null,null,null,null,"TABLE 12"]
[{"$f":"PREMIER!A35","v":"TUES 04.11.14"},"7.30 PM",{"$f":"R7","v":"BYE"},null,"V",null,{"$f":"R3","v":"TOM HING"},{"$f":"E3","v":"DAVE WHATMORE"},null,"V",null,{"$f":"R2","v":"SHANE HILL"},null,{"$f":"PREMIER!N35","v":"TUES 16.12.14"},"7.30 PM",{"$f":"R6","v":"TOM MELLOR"},null,"V",null,{"$f":"R2","v":"SHANE HILL"},{"$f":"R7","v":"BYE"},null,"V",null,{"$f":"E7","v":"CHRIS CALLAGHAN"}]
[null,"9.00 PM",{"$f":"E5","v":"ANTHONY MOORE"},null,"V",null,{"$f":"E6","v":"KEIRON FALK"},{"$f":"R5","v":"STEVE BARBER"},null,"V",null,{"$f":"E2","v":"DIANA KIRK"},null,null,"9.00 PM",{"$f":"E4","v":"RYAN JONES"},null,"V",null,{"$f":"E5","v":"ANTHONY MOORE"},{"$f":"E2","v":"DIANA KIRK"},null,"V",null,{"$f":"R4","v":"ANN MIDDLETON"}]
[{"$f":"PREMIER!A37","v":"WEDS 05.11.14"},"7.30 PM",{"$f":"E4","v":"RYAN JONES"},null,"V",null,{"$f":"E7","v":"CHRIS CALLAGHAN"},"N/A",null,"V",null,"N/A",null,{"$f":"PREMIER!N37","v":"WEDS 17.12.14"},"7.30 PM",{"$f":"E3","v":"DAVE WHATMORE"},null,"V",null,{"$f":"E6","v":"KEIRON FALK"},"N/A",null,"V",null,"N/A"]
[null,"9.00 PM",{"$f":"R6","v":"TOM MELLOR"},null,"V",null,{"$f":"R4","v":"ANN MIDDLETON"},"N/A",null,"V",null,"N/A",null,null,"9.00 PM",{"$f":"R5","v":"STEVE BARBER"},null,"V",null,{"$f":"R3","v":"TOM HING"},"N/A",null,"V",null,"N/A"]
[]
["DATE","TIME","TABLE 11",null,null,null,null,"TABLE 12"]
[{"$f":"PREMIER!A41","v":"TUES 11.11.14"},"7.30 PM",{"$f":"E5","v":"ANTHONY MOORE"},null,"V",null,{"$f":"E3","v":"DAVE WHATMORE"},{"$f":"E6","v":"KEIRON FALK"},null,"V",null,{"$f":"R7","v":"BYE"}]
[null,"9.00 PM",{"$f":"R2","v":"SHANE HILL"},null,"V",null,{"$f":"R5","v":"STEVE BARBER"},{"$f":"R3","v":"TOM HING"},null,"V",null,{"$f":"R4","v":"ANN MIDDLETON"}]
[{"$f":"PREMIER!A43","v":"WEDS 12.11.14"},"7.30 PM",{"$f":"E7","v":"CHRIS CALLAGHAN"},null,"V",null,{"$f":"R6","v":"TOM MELLOR"},"N/A",null,"V",null,"N/A"]
[null,"9.00 PM",{"$f":"E2","v":"DIANA KIRK"},null,"V",null,{"$f":"E4","v":"RYAN JONES"},"N/A",null,"V",null,"N/A"]

{"sheet":"TABLES","index":3,"n_rows":42,"n_cols":9,"rows_kept":42,"cut":false,"hidden":false,"merged":[]}
["PREMIER DIVISION"]
[null,"PLAYER","P","W","D","L","FF","FA","PTS"]
[1,{"$f":"PREMIER!AE18","v":"JAY COWAN"},{"$f":"PREMIER!AV18","v":0},{"$f":"PREMIER!AW18","v":0},{"$f":"PREMIER!AX18","v":0},{"$f":"PREMIER!AY18","v":0},{"$f":"PREMIER!AS18","v":0},{"$f":"PREMIER!AT18","v":0},{"$f":"PREMIER!AQ18","v":0}]
[2,{"$f":"PREMIER!AE10","v":"DYLAN LEARY"},{"$f":"PREMIER!AV10","v":0},{"$f":"PREMIER!AW10","v":0},{"$f":"PREMIER!AX10","v":0},{"$f":"PREMIER!AY10","v":0},{"$f":"PREMIER!AS10","v":0},{"$f":"PREMIER!AT10","v":0},{"$f":"PREMIER!AQ10","v":0}]
[3,{"$f":"PREMIER!AE16","v":"MATT ATASOY"},{"$f":"PREMIER!AV16","v":0},{"$f":"PREMIER!AW16","v":0},{"$f":"PREMIER!AX16","v":0},{"$f":"PREMIER!AY16","v":0},{"$f":"PREMIER!AS16","v":0},{"$f":"PREMIER!AT16","v":0},{"$f":"PREMIER!AQ16","v":0}]
[4,{"$f":"PREMIER!AE12","v":"LUCKY BIRDY"},{"$f":"PREMIER!AV12","v":0},{"$f":"PREMIER!AW12","v":0},{"$f":"PREMIER!AX12","v":0},{"$f":"PREMIER!AY12","v":0},{"$f":"PREMIER!AS12","v":0},{"$f":"PREMIER!AT12","v":0},{"$f":"PREMIER!AQ12","v":0}]
[5,{"$f":"PREMIER!AE20","v":"PAUL MONTAGUE"},{"$f":"PREMIER!AF20","v":0},{"$f":"PREMIER!AG20","v":0},{"$f":"PREMIER!AH20","v":0},{"$f":"PREMIER!AI20","v":0},{"$f":"PREMIER!AJ20","v":0},{"$f":"PREMIER!AK20","v":0},{"$f":"PREMIER!AL20","v":0}]
[6,{"$f":"PREMIER!AE15","v":"TAG FALCONER"},{"$f":"PREMIER!AV15","v":0},{"$f":"PREMIER!AW15","v":0},{"$f":"PREMIER!AX15","v":0},{"$f":"PREMIER!AY15","v":0},{"$f":"PREMIER!AS15","v":0},{"$f":"PREMIER!AT15","v":0},{"$f":"PREMIER!AQ15","v":0}]
[7,{"$f":"PREMIER!AE19","v":"CRAIG WILSON"},{"$f":"PREMIER!AV19","v":0},{"$f":"PREMIER!AW19","v":0},{"$f":"PREMIER!AX19","v":0},{"$f":"PREMIER!AY19","v":0},{"$f":"PREMIER!AS19","v":0},{"$f":"PREMIER!AT19","v":0},{"$f":"PREMIER!AQ19","v":0}]
[8,{"$f":"PREMIER!AE13","v":"SPIKE HARLING"},{"$f":"PREMIER!AF13","v":0},{"$f":"PREMIER!AG13","v":0},{"$f":"PREMIER!AH13","v":0},{"$f":"PREMIER!AI13","v":0},{"$f":"PREMIER!AJ13","v":0},{"$f":"PREMIER!AK13","v":0},{"$f":"PREMIER!AL13","v":0}]
[9,{"$f":"PREMIER!AE21","v":"STEVE PRIOR"},{"$f":"PREMIER!AF21","v":0},{"$f":"PREMIER!AG21","v":0},{"$f":"PREMIER!AH21","v":0},{"$f":"PREMIER!AI21","v":0},{"$f":"PREMIER!AJ21","v":0},{"$f":"PREMIER!AK21","v":0},{"$f":"PREMIER!AL21","v":0}]
[10,{"$f":"PREMIER!AE14","v":"VIKAS SABHARWAL"},{"$f":"PREMIER!AV14","v":0},{"$f":"PREMIER!AW14","v":0},{"$f":"PREMIER!AX14","v":0},{"$f":"PREMIER!AY14","v":0},{"$f":"PREMIER!AS14","v":0},{"$f":"PREMIER!AT14","v":0},{"$f":"PREMIER!AQ14","v":0}]
[11,{"$f":"PREMIER!AE11","v":"ROB WALSH"},{"$f":"PREMIER!AF11","v":0},{"$f":"PREMIER!AG11","v":0},{"$f":"PREMIER!AH11","v":0},{"$f":"PREMIER!AI11","v":0},{"$f":"PREMIER!AJ11","v":0},{"$f":"PREMIER!AK11","v":0},{"$f":"PREMIER!AL11","v":0}]
[]
["1ST DIVISION"]
[null,"PLAYER","P","W","D","L","FF","FA","PTS"]
[1,{"$f":"'DIVISION 1'!AE13","v":"BILLY DOCHERTY"},{"$f":"'DIVISION 1'!AV13","v":0},{"$f":"'DIVISION 1'!AW13","v":0},{"$f":"'DIVISION 1'!AX13","v":0},{"$f":"'DIVISION 1'!AY13","v":0},{"$f":"'DIVISION 1'!AS13","v":0},{"$f":"'DIVISION 1'!AT13","v":0},{"$f":"'DIVISION 1'!AQ13","v":0}]
[2,{"$f":"'DIVISION 1'!AE15","v":"CHRIS FAWCETT"},{"$f":"'DIVISION 1'!AV15","v":0},{"$f":"'DIVISION 1'!AW15","v":0},{"$f":"'DIVISION 1'!AX15","v":0},{"$f":"'DIVISION 1'!AY15","v":0},{"$f":"'DIVISION 1'!AS15","v":0},{"$f":"'DIVISION 1'!AT15","v":0},{"$f":"'DIVISION 1'!AQ15","v":0}]
[3,{"$f":"'DIVISION 1'!AE18","v":"DANNY CURTIN"},{"$f":"'DIVISION 1'!AV18","v":0},{"$f":"'DIVISION 1'!AW18","v":0},{"$f":"'DIVISION 1'!AX18","v":0},{"$f":"'DIVISION 1'!AY18","v":0},{"$f":"'DIVISION 1'!AS18","v":0},{"$f":"'DIVISION 1'!AT18","v":0},{"$f":"'DIVISION 1'!AQ18","v":0}]
[4,{"$f":"'DIVISION 1'!AE12","v":"DEAN HARDESTY"},{"$f":"'DIVISION 1'!AV12","v":0},{"$f":"'DIVISION 1'!AW12","v":0},{"$f":"'DIVISION 1'!AX12","v":0},{"$f":"'DIVISION 1'!AY12","v":0},{"$f":"'DIVISION 1'!AS12","v":0},{"$f":"'DIVISION 1'!AT12","v":0},{"$f":"'DIVISION 1'!AQ12","v":0}]
[5,{"$f":"'DIVISION 1'!AE19","v":"GRAHAM BRIGHT"},{"$f":"'DIVISION 1'!AV19","v":0},{"$f":"'DIVISION 1'!AW19","v":0},{"$f":"'DIVISION 1'!AX19","v":0},{"$f":"'DIVISION 1'!AY19","v":0},{"$f":"'DIVISION 1'!AS19","v":0},{"$f":"'DIVISION 1'!AT19","v":0},{"$f":"'DIVISION 1'!AQ19","v":0}]
[6,{"$f":"'DIVISION 1'!AE21","v":"JEZ HILL"},{"$f":"'DIVISION 1'!AV21","v":0},{"$f":"'DIVISION 1'!AW21","v":0},{"$f":"'DIVISION 1'!AX21","v":0},{"$f":"'DIVISION 1'!AY21","v":0},{"$f":"'DIVISION 1'!AS21","v":0},{"$f":"'DIVISION 1'!AT21","v":0},{"$f":"'DIVISION 1'!AQ21","v":0}]
[7,{"$f":"'DIVISION 1'!AE14","v":"MATT HING"},{"$f":"'DIVISION 1'!AV14","v":0},{"$f":"'DIVISION 1'!AW14","v":0},{"$f":"'DIVISION 1'!AX14","v":0},{"$f":"'DIVISION 1'!AY14","v":0},{"$f":"'DIVISION 1'!AS14","v":0},{"$f":"'DIVISION 1'!AT14","v":0},{"$f":"'DIVISION 1'!AQ14","v":0}]
[8,{"$f":"'DIVISION 1'!AE20","v":"MATTY GATES"},{"$f":"'DIVISION 1'!AV20","v":0},{"$f":"'DIVISION 1'!AW20","v":0},{"$f":"'DIVISION 1'!AX20","v":0},{"$f":"'DIVISION 1'!AY20","v":0},{"$f":"'DIVISION 1'!AS20","v":0},{"$f":"'DIVISION 1'!AT20","v":0},{"$f":"'DIVISION 1'!AQ20","v":0}]
[9,{"$f":"'DIVISION 1'!AE10","v":"OLLIE FARRELL"},{"$f":"'DIVISION 1'!AV10","v":0},{"$f":"'DIVISION 1'!AW10","v":0},{"$f":"'DIVISION 1'!AX10","v":0},{"$f":"'DIVISION 1'!AY10","v":0},{"$f":"'DIVISION 1'!AS10","v":0},{"$f":"'DIVISION 1'!AT10","v":0},{"$f":"'DIVISION 1'!AQ10","v":0}]
[10,{"$f":"'DIVISION 1'!AE16","v":"PAUL WEBB"},{"$f":"'DIVISION 1'!AV16","v":0},{"$f":"'DIVISION 1'!AW16","v":0},{"$f":"'DIVISION 1'!AX16","v":0},{"$f":"'DIVISION 1'!AY16","v":0},{"$f":"'DIVISION 1'!AS16","v":0},{"$f":"'DIVISION 1'!AT16","v":0},{"$f":"'DIVISION 1'!AQ16","v":0}]
[11,{"$f":"'DIVISION 1'!AE17","v":"STUART TOWNSEND"},{"$f":"'DIVISION 1'!AV17","v":0},{"$f":"'DIVISION 1'!AW17","v":0},{"$f":"'DIVISION 1'!AX17","v":0},{"$f":"'DIVISION 1'!AY17","v":0},{"$f":"'DIVISION 1'!AS17","v":0},{"$f":"'DIVISION 1'!AT17","v":0},{"$f":"'DIVISION 1'!AQ17","v":0}]
[12,{"$f":"'DIVISION 1'!AE11","v":"TONY PRICE"},{"$f":"'DIVISION 1'!AV11","v":0},{"$f":"'DIVISION 1'!AW11","v":0},{"$f":"'DIVISION 1'!AX11","v":0},{"$f":"'DIVISION 1'!AY11","v":0},{"$f":"'DIVISION 1'!AS11","v":0},{"$f":"'DIVISION 1'!AT11","v":0},{"$f":"'DIVISION 1'!AQ11","v":0}]
[]
["2ND DIVISION"]
[null,"PLAYER","P","W","D","L","FF","FA","PTS"]
[1,{"$f":"'DVISION 2'!AE18","v":"ANN MIDDLETON"},{"$f":"'DVISION 2'!AV18","v":0},{"$f":"'DVISION 2'!AW18","v":0},{"$f":"'DVISION 2'!AX18","v":0},{"$f":"'DVISION 2'!AY18","v":0},{"$f":"'DVISION 2'!AS18","v":0},{"$f":"'DVISION 2'!AT18","v":0},{"$f":"'DVISION 2'!AQ18","v":0}]
[2,{"$f":"'DVISION 2'!AE13","v":"ANTHONY MOORE"},{"$f":"'DVISION 2'!AV13","v":0},{"$f":"'DVISION 2'!AW13","v":0},{"$f":"'DVISION 2'!AX13","v":0},{"$f":"'DVISION 2'!AY13","v":0},{"$f":"'DVISION 2'!AS13","v":0},{"$f":"'DVISION 2'!AT13","v":0},{"$f":"'DVISION 2'!AQ13","v":0}]
[3,{"$f":"'DVISION 2'!AE15","v":"CHRIS CALLAGHAN"},{"$f":"'DVISION 2'!AV15","v":0},{"$f":"'DVISION 2'!AW15","v":0},{"$f":"'DVISION 2'!AX15","v":0},{"$f":"'DVISION 2'!AY15","v":0},{"$f":"'DVISION 2'!AS15","v":0},{"$f":"'DVISION 2'!AT15","v":0},{"$f":"'DVISION 2'!AQ15","v":0}]
[4,{"$f":"'DVISION 2'!AE11","v":"DAVE WHATMORE"},{"$f":"'DVISION 2'!AV11","v":0},{"$f":"'DVISION 2'!AW11","v":0},{"$f":"'DVISION 2'!AX11","v":0},{"$f":"'DVISION 2'!AY11","v":0},{"$f":"'DVISION 2'!AS11","v":0},{"$f":"'DVISION 2'!AT11","v":0},{"$f":"'DVISION 2'!AQ11","v":0}]
[5,{"$f":"'DVISION 2'!AE10","v":"DIANA KIRK"},{"$f":"'DVISION 2'!AV10","v":0},{"$f":"'DVISION 2'!AW10","v":0},{"$f":"'DVISION 2'!AX10","v":0},{"$f":"'DVISION 2'!AY10","v":0},{"$f":"'DVISION 2'!AS10","v":0},{"$f":"'DVISION 2'!AT10","v":0},{"$f":"'DVISION 2'!AQ10","v":0}]
[6,{"$f":"'DVISION 2'!AE14","v":"KEIRON FALK"},{"$f":"'DVISION 2'!AV14","v":0},{"$f":"'DVISION 2'!AW14","v":0},{"$f":"'DVISION 2'!AX14","v":0},{"$f":"'DVISION 2'!AY14","v":0},{"$f":"'DVISION 2'!AS14","v":0},{"$f":"'DVISION 2'!AT14","v":0},{"$f":"'DVISION 2'!AQ14","v":0}]
[7,{"$f":"'DVISION 2'!AE12","v":"RYAN JONES"},{"$f":"'DVISION 2'!AV12","v":0},{"$f":"'DVISION 2'!AW12","v":0},{"$f":"'DVISION 2'!AX12","v":0},{"$f":"'DVISION 2'!AY12","v":0},{"$f":"'DVISION 2'!AS12","v":0},{"$f":"'DVISION 2'!AT12","v":0},{"$f":"'DVISION 2'!AQ12","v":0}]
[8,{"$f":"'DVISION 2'!AE16","v":"SHANE HILL"},{"$f":"'DVISION 2'!AV16","v":0},{"$f":"'DVISION 2'!AW16","v":0},{"$f":"'DVISION 2'!AX16","v":0},{"$f":"'DVISION 2'!AY16","v":0},{"$f":"'DVISION 2'!AS16","v":0},{"$f":"'DVISION 2'!AT16","v":0},{"$f":"'DVISION 2'!AQ16","v":0}]
[9,{"$f":"'DVISION 2'!AE19","v":"STEVE BARBER"},{"$f":"'DVISION 2'!AV19","v":0},{"$f":"'DVISION 2'!AW19","v":0},{"$f":"'DVISION 2'!AX19","v":0},{"$f":"'DVISION 2'!AY19","v":0},{"$f":"'DVISION 2'!AS19","v":0},{"$f":"'DVISION 2'!AT19","v":0},{"$f":"'DVISION 2'!AQ19","v":0}]
[10,{"$f":"'DVISION 2'!AE17","v":"TOM HING"},{"$f":"'DVISION 2'!AV17","v":0},{"$f":"'DVISION 2'!AW17","v":0},{"$f":"'DVISION 2'!AX17","v":0},{"$f":"'DVISION 2'!AY17","v":0},{"$f":"'DVISION 2'!AS17","v":0},{"$f":"'DVISION 2'!AT17","v":0},{"$f":"'DVISION 2'!AQ17","v":0}]
[11,{"$f":"'DVISION 2'!AE20","v":"TOM MELLOR"},{"$f":"'DVISION 2'!AV20","v":0},{"$f":"'DVISION 2'!AW20","v":0},{"$f":"'DVISION 2'!AX20","v":0},{"$f":"'DVISION 2'!AY20","v":0},{"$f":"'DVISION 2'!AS20","v":0},{"$f":"'DVISION 2'!AT20","v":0},{"$f":"'DVISION 2'!AQ20","v":0}]